BEGIN:VCALENDAR
VERSION:2.0
PRODID:-//Wijkagenda - ECPv6.15.20//NONSGML v1.0//EN
CALSCALE:GREGORIAN
METHOD:PUBLISH
X-ORIGINAL-URL:https://hierinwest.nl
X-WR-CALDESC:Evenementen voor Wijkagenda
REFRESH-INTERVAL;VALUE=DURATION:PT1H
X-Robots-Tag:noindex
X-PUBLISHED-TTL:PT1H
BEGIN:VTIMEZONE
TZID:Europe/Amsterdam
BEGIN:DAYLIGHT
TZOFFSETFROM:+0100
TZOFFSETTO:+0200
TZNAME:CEST
DTSTART:20230326T010000
END:DAYLIGHT
BEGIN:STANDARD
TZOFFSETFROM:+0200
TZOFFSETTO:+0100
TZNAME:CET
DTSTART:20231029T010000
END:STANDARD
BEGIN:DAYLIGHT
TZOFFSETFROM:+0100
TZOFFSETTO:+0200
TZNAME:CEST
DTSTART:20240331T010000
END:DAYLIGHT
BEGIN:STANDARD
TZOFFSETFROM:+0200
TZOFFSETTO:+0100
TZNAME:CET
DTSTART:20241027T010000
END:STANDARD
BEGIN:DAYLIGHT
TZOFFSETFROM:+0100
TZOFFSETTO:+0200
TZNAME:CEST
DTSTART:20250330T010000
END:DAYLIGHT
BEGIN:STANDARD
TZOFFSETFROM:+0200
TZOFFSETTO:+0100
TZNAME:CET
DTSTART:20251026T010000
END:STANDARD
END:VTIMEZONE
BEGIN:VEVENT
DTSTART;TZID=Europe/Amsterdam:20240912T100000
DTEND;TZID=Europe/Amsterdam:20240912T120000
DTSTAMP:20260419T224733
CREATED:20240627T154617Z
LAST-MODIFIED:20240627T154639Z
UID:2673-1726135200-1726142400@hierinwest.nl
SUMMARY:Yoga
DESCRIPTION:Samen yoga leren en doen
URL:https://hierinwest.nl/activiteit/yoga/
LOCATION:Wijkpastoraat\, Burg Meineszstraat 4\, Rotterdam\, Zuid-Holland\, 3022XE\, Nederland
CATEGORIES:Zingeving
ATTACH;FMTTYPE=image/jpeg:https://hierinwest.nl/wp-content/uploads/2023/10/Yoga-in-Delfshaven.jpg
ORGANIZER;CN="Wijkpastoraat Rotterdam-West":MAILTO:info@stichtingwijkpastoraatrotterdamwest.nl
END:VEVENT
BEGIN:VEVENT
DTSTART;TZID=Europe/Amsterdam:20240912T120000
DTEND;TZID=Europe/Amsterdam:20240912T130000
DTSTAMP:20260419T224733
CREATED:20240627T125009Z
LAST-MODIFIED:20240627T125011Z
UID:2586-1726142400-1726146000@hierinwest.nl
SUMMARY:Stoelyoga
DESCRIPTION:Rustig bewegen en concentreren
URL:https://hierinwest.nl/activiteit/stoelyoga/
LOCATION:Laurens\, Mathenesserlaan 500\, Rotterdam\, Zuid-Holland\, 3023 HL\, Nederland
CATEGORIES:Gezond,Leren,Zingeving
ATTACH;FMTTYPE=image/jpeg:https://hierinwest.nl/wp-content/uploads/2023/09/Stoelyoga-.jpg
END:VEVENT
BEGIN:VEVENT
DTSTART;TZID=Europe/Amsterdam:20240914T093000
DTEND;TZID=Europe/Amsterdam:20240914T110000
DTSTAMP:20260419T224733
CREATED:20240709T104313Z
LAST-MODIFIED:20240709T104411Z
UID:2857-1726306200-1726311600@hierinwest.nl
SUMMARY:Yoga
DESCRIPTION:Lekker lichamelijk en geestelijk ontspannen door middel van oefeningen.
URL:https://hierinwest.nl/activiteit/yoga-2/
LOCATION:Huiskamer de Pupillen\, Pupillenstraat 107\, Rotterdam\, Zuid-Holland\, 3023 VR\, Nederland
CATEGORIES:Gezond,Leren
ATTACH;FMTTYPE=image/jpeg:https://hierinwest.nl/wp-content/uploads/2023/10/Yoga-in-Delfshaven.jpg
END:VEVENT
BEGIN:VEVENT
DTSTART;TZID=Europe/Amsterdam:20240912T100000
DTEND;TZID=Europe/Amsterdam:20240912T120000
DTSTAMP:20260419T224733
CREATED:20240627T154617Z
LAST-MODIFIED:20240627T154639Z
UID:2673-1726135200-1726142400@hierinwest.nl
SUMMARY:Yoga
DESCRIPTION:Samen yoga leren en doen
URL:https://hierinwest.nl/activiteit/yoga/
LOCATION:Wijkpastoraat\, Burg Meineszstraat 4\, Rotterdam\, Zuid-Holland\, 3022XE\, Nederland
CATEGORIES:Zingeving
ATTACH;FMTTYPE=image/jpeg:https://hierinwest.nl/wp-content/uploads/2023/10/Yoga-in-Delfshaven.jpg
ORGANIZER;CN="Wijkpastoraat Rotterdam-West":MAILTO:info@stichtingwijkpastoraatrotterdamwest.nl
END:VEVENT
BEGIN:VEVENT
DTSTART;TZID=Europe/Amsterdam:20240912T120000
DTEND;TZID=Europe/Amsterdam:20240912T130000
DTSTAMP:20260419T224733
CREATED:20240627T125009Z
LAST-MODIFIED:20240627T125011Z
UID:2586-1726142400-1726146000@hierinwest.nl
SUMMARY:Stoelyoga
DESCRIPTION:Rustig bewegen en concentreren
URL:https://hierinwest.nl/activiteit/stoelyoga/
LOCATION:Laurens\, Mathenesserlaan 500\, Rotterdam\, Zuid-Holland\, 3023 HL\, Nederland
CATEGORIES:Gezond,Leren,Zingeving
ATTACH;FMTTYPE=image/jpeg:https://hierinwest.nl/wp-content/uploads/2023/09/Stoelyoga-.jpg
END:VEVENT
BEGIN:VEVENT
DTSTART;TZID=Europe/Amsterdam:20240914T093000
DTEND;TZID=Europe/Amsterdam:20240914T110000
DTSTAMP:20260419T224733
CREATED:20240709T104313Z
LAST-MODIFIED:20240709T104411Z
UID:2857-1726306200-1726311600@hierinwest.nl
SUMMARY:Yoga
DESCRIPTION:Lekker lichamelijk en geestelijk ontspannen door middel van oefeningen.
URL:https://hierinwest.nl/activiteit/yoga-2/
LOCATION:Huiskamer de Pupillen\, Pupillenstraat 107\, Rotterdam\, Zuid-Holland\, 3023 VR\, Nederland
CATEGORIES:Gezond,Leren
ATTACH;FMTTYPE=image/jpeg:https://hierinwest.nl/wp-content/uploads/2023/10/Yoga-in-Delfshaven.jpg
END:VEVENT
BEGIN:VEVENT
DTSTART;TZID=Europe/Amsterdam:20240912T100000
DTEND;TZID=Europe/Amsterdam:20240912T120000
DTSTAMP:20260419T224733
CREATED:20240627T154617Z
LAST-MODIFIED:20240627T154639Z
UID:2673-1726135200-1726142400@hierinwest.nl
SUMMARY:Yoga
DESCRIPTION:Samen yoga leren en doen
URL:https://hierinwest.nl/activiteit/yoga/
LOCATION:Wijkpastoraat\, Burg Meineszstraat 4\, Rotterdam\, Zuid-Holland\, 3022XE\, Nederland
CATEGORIES:Zingeving
ATTACH;FMTTYPE=image/jpeg:https://hierinwest.nl/wp-content/uploads/2023/10/Yoga-in-Delfshaven.jpg
ORGANIZER;CN="Wijkpastoraat Rotterdam-West":MAILTO:info@stichtingwijkpastoraatrotterdamwest.nl
END:VEVENT
BEGIN:VEVENT
DTSTART;TZID=Europe/Amsterdam:20240912T120000
DTEND;TZID=Europe/Amsterdam:20240912T130000
DTSTAMP:20260419T224733
CREATED:20240627T125009Z
LAST-MODIFIED:20240627T125011Z
UID:2586-1726142400-1726146000@hierinwest.nl
SUMMARY:Stoelyoga
DESCRIPTION:Rustig bewegen en concentreren
URL:https://hierinwest.nl/activiteit/stoelyoga/
LOCATION:Laurens\, Mathenesserlaan 500\, Rotterdam\, Zuid-Holland\, 3023 HL\, Nederland
CATEGORIES:Gezond,Leren,Zingeving
ATTACH;FMTTYPE=image/jpeg:https://hierinwest.nl/wp-content/uploads/2023/09/Stoelyoga-.jpg
END:VEVENT
BEGIN:VEVENT
DTSTART;TZID=Europe/Amsterdam:20240914T093000
DTEND;TZID=Europe/Amsterdam:20240914T110000
DTSTAMP:20260419T224733
CREATED:20240709T104313Z
LAST-MODIFIED:20240709T104411Z
UID:2857-1726306200-1726311600@hierinwest.nl
SUMMARY:Yoga
DESCRIPTION:Lekker lichamelijk en geestelijk ontspannen door middel van oefeningen.
URL:https://hierinwest.nl/activiteit/yoga-2/
LOCATION:Huiskamer de Pupillen\, Pupillenstraat 107\, Rotterdam\, Zuid-Holland\, 3023 VR\, Nederland
CATEGORIES:Gezond,Leren
ATTACH;FMTTYPE=image/jpeg:https://hierinwest.nl/wp-content/uploads/2023/10/Yoga-in-Delfshaven.jpg
END:VEVENT
BEGIN:VEVENT
DTSTART;TZID=Europe/Amsterdam:20240912T100000
DTEND;TZID=Europe/Amsterdam:20240912T120000
DTSTAMP:20260419T224733
CREATED:20240627T154617Z
LAST-MODIFIED:20240627T154639Z
UID:2673-1726135200-1726142400@hierinwest.nl
SUMMARY:Yoga
DESCRIPTION:Samen yoga leren en doen
URL:https://hierinwest.nl/activiteit/yoga/
LOCATION:Wijkpastoraat\, Burg Meineszstraat 4\, Rotterdam\, Zuid-Holland\, 3022XE\, Nederland
CATEGORIES:Zingeving
ATTACH;FMTTYPE=image/jpeg:https://hierinwest.nl/wp-content/uploads/2023/10/Yoga-in-Delfshaven.jpg
ORGANIZER;CN="Wijkpastoraat Rotterdam-West":MAILTO:info@stichtingwijkpastoraatrotterdamwest.nl
END:VEVENT
BEGIN:VEVENT
DTSTART;TZID=Europe/Amsterdam:20240912T120000
DTEND;TZID=Europe/Amsterdam:20240912T130000
DTSTAMP:20260419T224733
CREATED:20240627T125009Z
LAST-MODIFIED:20240627T125011Z
UID:2586-1726142400-1726146000@hierinwest.nl
SUMMARY:Stoelyoga
DESCRIPTION:Rustig bewegen en concentreren
URL:https://hierinwest.nl/activiteit/stoelyoga/
LOCATION:Laurens\, Mathenesserlaan 500\, Rotterdam\, Zuid-Holland\, 3023 HL\, Nederland
CATEGORIES:Gezond,Leren,Zingeving
ATTACH;FMTTYPE=image/jpeg:https://hierinwest.nl/wp-content/uploads/2023/09/Stoelyoga-.jpg
END:VEVENT
BEGIN:VEVENT
DTSTART;TZID=Europe/Amsterdam:20240914T093000
DTEND;TZID=Europe/Amsterdam:20240914T110000
DTSTAMP:20260419T224733
CREATED:20240709T104313Z
LAST-MODIFIED:20240709T104411Z
UID:2857-1726306200-1726311600@hierinwest.nl
SUMMARY:Yoga
DESCRIPTION:Lekker lichamelijk en geestelijk ontspannen door middel van oefeningen.
URL:https://hierinwest.nl/activiteit/yoga-2/
LOCATION:Huiskamer de Pupillen\, Pupillenstraat 107\, Rotterdam\, Zuid-Holland\, 3023 VR\, Nederland
CATEGORIES:Gezond,Leren
ATTACH;FMTTYPE=image/jpeg:https://hierinwest.nl/wp-content/uploads/2023/10/Yoga-in-Delfshaven.jpg
END:VEVENT
BEGIN:VEVENT
DTSTART;TZID=Europe/Amsterdam:20240912T100000
DTEND;TZID=Europe/Amsterdam:20240912T120000
DTSTAMP:20260419T224733
CREATED:20240627T154617Z
LAST-MODIFIED:20240627T154639Z
UID:2673-1726135200-1726142400@hierinwest.nl
SUMMARY:Yoga
DESCRIPTION:Samen yoga leren en doen
URL:https://hierinwest.nl/activiteit/yoga/
LOCATION:Wijkpastoraat\, Burg Meineszstraat 4\, Rotterdam\, Zuid-Holland\, 3022XE\, Nederland
CATEGORIES:Zingeving
ATTACH;FMTTYPE=image/jpeg:https://hierinwest.nl/wp-content/uploads/2023/10/Yoga-in-Delfshaven.jpg
ORGANIZER;CN="Wijkpastoraat Rotterdam-West":MAILTO:info@stichtingwijkpastoraatrotterdamwest.nl
END:VEVENT
BEGIN:VEVENT
DTSTART;TZID=Europe/Amsterdam:20240912T120000
DTEND;TZID=Europe/Amsterdam:20240912T130000
DTSTAMP:20260419T224733
CREATED:20240627T125009Z
LAST-MODIFIED:20240627T125011Z
UID:2586-1726142400-1726146000@hierinwest.nl
SUMMARY:Stoelyoga
DESCRIPTION:Rustig bewegen en concentreren
URL:https://hierinwest.nl/activiteit/stoelyoga/
LOCATION:Laurens\, Mathenesserlaan 500\, Rotterdam\, Zuid-Holland\, 3023 HL\, Nederland
CATEGORIES:Gezond,Leren,Zingeving
ATTACH;FMTTYPE=image/jpeg:https://hierinwest.nl/wp-content/uploads/2023/09/Stoelyoga-.jpg
END:VEVENT
BEGIN:VEVENT
DTSTART;TZID=Europe/Amsterdam:20240914T093000
DTEND;TZID=Europe/Amsterdam:20240914T110000
DTSTAMP:20260419T224733
CREATED:20240709T104313Z
LAST-MODIFIED:20240709T104411Z
UID:2857-1726306200-1726311600@hierinwest.nl
SUMMARY:Yoga
DESCRIPTION:Lekker lichamelijk en geestelijk ontspannen door middel van oefeningen.
URL:https://hierinwest.nl/activiteit/yoga-2/
LOCATION:Huiskamer de Pupillen\, Pupillenstraat 107\, Rotterdam\, Zuid-Holland\, 3023 VR\, Nederland
CATEGORIES:Gezond,Leren
ATTACH;FMTTYPE=image/jpeg:https://hierinwest.nl/wp-content/uploads/2023/10/Yoga-in-Delfshaven.jpg
END:VEVENT
BEGIN:VEVENT
DTSTART;TZID=Europe/Amsterdam:20240912T100000
DTEND;TZID=Europe/Amsterdam:20240912T120000
DTSTAMP:20260419T224733
CREATED:20240627T154617Z
LAST-MODIFIED:20240627T154639Z
UID:2673-1726135200-1726142400@hierinwest.nl
SUMMARY:Yoga
DESCRIPTION:Samen yoga leren en doen
URL:https://hierinwest.nl/activiteit/yoga/
LOCATION:Wijkpastoraat\, Burg Meineszstraat 4\, Rotterdam\, Zuid-Holland\, 3022XE\, Nederland
CATEGORIES:Zingeving
ATTACH;FMTTYPE=image/jpeg:https://hierinwest.nl/wp-content/uploads/2023/10/Yoga-in-Delfshaven.jpg
ORGANIZER;CN="Wijkpastoraat Rotterdam-West":MAILTO:info@stichtingwijkpastoraatrotterdamwest.nl
END:VEVENT
BEGIN:VEVENT
DTSTART;TZID=Europe/Amsterdam:20240912T120000
DTEND;TZID=Europe/Amsterdam:20240912T130000
DTSTAMP:20260419T224733
CREATED:20240627T125009Z
LAST-MODIFIED:20240627T125011Z
UID:2586-1726142400-1726146000@hierinwest.nl
SUMMARY:Stoelyoga
DESCRIPTION:Rustig bewegen en concentreren
URL:https://hierinwest.nl/activiteit/stoelyoga/
LOCATION:Laurens\, Mathenesserlaan 500\, Rotterdam\, Zuid-Holland\, 3023 HL\, Nederland
CATEGORIES:Gezond,Leren,Zingeving
ATTACH;FMTTYPE=image/jpeg:https://hierinwest.nl/wp-content/uploads/2023/09/Stoelyoga-.jpg
END:VEVENT
BEGIN:VEVENT
DTSTART;TZID=Europe/Amsterdam:20240914T093000
DTEND;TZID=Europe/Amsterdam:20240914T110000
DTSTAMP:20260419T224733
CREATED:20240709T104313Z
LAST-MODIFIED:20240709T104411Z
UID:2857-1726306200-1726311600@hierinwest.nl
SUMMARY:Yoga
DESCRIPTION:Lekker lichamelijk en geestelijk ontspannen door middel van oefeningen.
URL:https://hierinwest.nl/activiteit/yoga-2/
LOCATION:Huiskamer de Pupillen\, Pupillenstraat 107\, Rotterdam\, Zuid-Holland\, 3023 VR\, Nederland
CATEGORIES:Gezond,Leren
ATTACH;FMTTYPE=image/jpeg:https://hierinwest.nl/wp-content/uploads/2023/10/Yoga-in-Delfshaven.jpg
END:VEVENT
BEGIN:VEVENT
DTSTART;TZID=Europe/Amsterdam:20240912T100000
DTEND;TZID=Europe/Amsterdam:20240912T120000
DTSTAMP:20260419T224733
CREATED:20240627T154617Z
LAST-MODIFIED:20240627T154639Z
UID:2673-1726135200-1726142400@hierinwest.nl
SUMMARY:Yoga
DESCRIPTION:Samen yoga leren en doen
URL:https://hierinwest.nl/activiteit/yoga/
LOCATION:Wijkpastoraat\, Burg Meineszstraat 4\, Rotterdam\, Zuid-Holland\, 3022XE\, Nederland
CATEGORIES:Zingeving
ATTACH;FMTTYPE=image/jpeg:https://hierinwest.nl/wp-content/uploads/2023/10/Yoga-in-Delfshaven.jpg
ORGANIZER;CN="Wijkpastoraat Rotterdam-West":MAILTO:info@stichtingwijkpastoraatrotterdamwest.nl
END:VEVENT
BEGIN:VEVENT
DTSTART;TZID=Europe/Amsterdam:20240912T120000
DTEND;TZID=Europe/Amsterdam:20240912T130000
DTSTAMP:20260419T224733
CREATED:20240627T125009Z
LAST-MODIFIED:20240627T125011Z
UID:2586-1726142400-1726146000@hierinwest.nl
SUMMARY:Stoelyoga
DESCRIPTION:Rustig bewegen en concentreren
URL:https://hierinwest.nl/activiteit/stoelyoga/
LOCATION:Laurens\, Mathenesserlaan 500\, Rotterdam\, Zuid-Holland\, 3023 HL\, Nederland
CATEGORIES:Gezond,Leren,Zingeving
ATTACH;FMTTYPE=image/jpeg:https://hierinwest.nl/wp-content/uploads/2023/09/Stoelyoga-.jpg
END:VEVENT
BEGIN:VEVENT
DTSTART;TZID=Europe/Amsterdam:20240914T093000
DTEND;TZID=Europe/Amsterdam:20240914T110000
DTSTAMP:20260419T224733
CREATED:20240709T104313Z
LAST-MODIFIED:20240709T104411Z
UID:2857-1726306200-1726311600@hierinwest.nl
SUMMARY:Yoga
DESCRIPTION:Lekker lichamelijk en geestelijk ontspannen door middel van oefeningen.
URL:https://hierinwest.nl/activiteit/yoga-2/
LOCATION:Huiskamer de Pupillen\, Pupillenstraat 107\, Rotterdam\, Zuid-Holland\, 3023 VR\, Nederland
CATEGORIES:Gezond,Leren
ATTACH;FMTTYPE=image/jpeg:https://hierinwest.nl/wp-content/uploads/2023/10/Yoga-in-Delfshaven.jpg
END:VEVENT
BEGIN:VEVENT
DTSTART;TZID=Europe/Amsterdam:20240912T100000
DTEND;TZID=Europe/Amsterdam:20240912T120000
DTSTAMP:20260419T224733
CREATED:20240627T154617Z
LAST-MODIFIED:20240627T154639Z
UID:2673-1726135200-1726142400@hierinwest.nl
SUMMARY:Yoga
DESCRIPTION:Samen yoga leren en doen
URL:https://hierinwest.nl/activiteit/yoga/
LOCATION:Wijkpastoraat\, Burg Meineszstraat 4\, Rotterdam\, Zuid-Holland\, 3022XE\, Nederland
CATEGORIES:Zingeving
ATTACH;FMTTYPE=image/jpeg:https://hierinwest.nl/wp-content/uploads/2023/10/Yoga-in-Delfshaven.jpg
ORGANIZER;CN="Wijkpastoraat Rotterdam-West":MAILTO:info@stichtingwijkpastoraatrotterdamwest.nl
END:VEVENT
BEGIN:VEVENT
DTSTART;TZID=Europe/Amsterdam:20240912T120000
DTEND;TZID=Europe/Amsterdam:20240912T130000
DTSTAMP:20260419T224733
CREATED:20240627T125009Z
LAST-MODIFIED:20240627T125011Z
UID:2586-1726142400-1726146000@hierinwest.nl
SUMMARY:Stoelyoga
DESCRIPTION:Rustig bewegen en concentreren
URL:https://hierinwest.nl/activiteit/stoelyoga/
LOCATION:Laurens\, Mathenesserlaan 500\, Rotterdam\, Zuid-Holland\, 3023 HL\, Nederland
CATEGORIES:Gezond,Leren,Zingeving
ATTACH;FMTTYPE=image/jpeg:https://hierinwest.nl/wp-content/uploads/2023/09/Stoelyoga-.jpg
END:VEVENT
BEGIN:VEVENT
DTSTART;TZID=Europe/Amsterdam:20240914T093000
DTEND;TZID=Europe/Amsterdam:20240914T110000
DTSTAMP:20260419T224733
CREATED:20240709T104313Z
LAST-MODIFIED:20240709T104411Z
UID:2857-1726306200-1726311600@hierinwest.nl
SUMMARY:Yoga
DESCRIPTION:Lekker lichamelijk en geestelijk ontspannen door middel van oefeningen.
URL:https://hierinwest.nl/activiteit/yoga-2/
LOCATION:Huiskamer de Pupillen\, Pupillenstraat 107\, Rotterdam\, Zuid-Holland\, 3023 VR\, Nederland
CATEGORIES:Gezond,Leren
ATTACH;FMTTYPE=image/jpeg:https://hierinwest.nl/wp-content/uploads/2023/10/Yoga-in-Delfshaven.jpg
END:VEVENT
BEGIN:VEVENT
DTSTART;TZID=Europe/Amsterdam:20240912T100000
DTEND;TZID=Europe/Amsterdam:20240912T120000
DTSTAMP:20260419T224733
CREATED:20240627T154617Z
LAST-MODIFIED:20240627T154639Z
UID:2673-1726135200-1726142400@hierinwest.nl
SUMMARY:Yoga
DESCRIPTION:Samen yoga leren en doen
URL:https://hierinwest.nl/activiteit/yoga/
LOCATION:Wijkpastoraat\, Burg Meineszstraat 4\, Rotterdam\, Zuid-Holland\, 3022XE\, Nederland
CATEGORIES:Zingeving
ATTACH;FMTTYPE=image/jpeg:https://hierinwest.nl/wp-content/uploads/2023/10/Yoga-in-Delfshaven.jpg
ORGANIZER;CN="Wijkpastoraat Rotterdam-West":MAILTO:info@stichtingwijkpastoraatrotterdamwest.nl
END:VEVENT
BEGIN:VEVENT
DTSTART;TZID=Europe/Amsterdam:20240912T120000
DTEND;TZID=Europe/Amsterdam:20240912T130000
DTSTAMP:20260419T224733
CREATED:20240627T125009Z
LAST-MODIFIED:20240627T125011Z
UID:2586-1726142400-1726146000@hierinwest.nl
SUMMARY:Stoelyoga
DESCRIPTION:Rustig bewegen en concentreren
URL:https://hierinwest.nl/activiteit/stoelyoga/
LOCATION:Laurens\, Mathenesserlaan 500\, Rotterdam\, Zuid-Holland\, 3023 HL\, Nederland
CATEGORIES:Gezond,Leren,Zingeving
ATTACH;FMTTYPE=image/jpeg:https://hierinwest.nl/wp-content/uploads/2023/09/Stoelyoga-.jpg
END:VEVENT
BEGIN:VEVENT
DTSTART;TZID=Europe/Amsterdam:20240914T093000
DTEND;TZID=Europe/Amsterdam:20240914T110000
DTSTAMP:20260419T224733
CREATED:20240709T104313Z
LAST-MODIFIED:20240709T104411Z
UID:2857-1726306200-1726311600@hierinwest.nl
SUMMARY:Yoga
DESCRIPTION:Lekker lichamelijk en geestelijk ontspannen door middel van oefeningen.
URL:https://hierinwest.nl/activiteit/yoga-2/
LOCATION:Huiskamer de Pupillen\, Pupillenstraat 107\, Rotterdam\, Zuid-Holland\, 3023 VR\, Nederland
CATEGORIES:Gezond,Leren
ATTACH;FMTTYPE=image/jpeg:https://hierinwest.nl/wp-content/uploads/2023/10/Yoga-in-Delfshaven.jpg
END:VEVENT
BEGIN:VEVENT
DTSTART;TZID=Europe/Amsterdam:20240912T100000
DTEND;TZID=Europe/Amsterdam:20240912T120000
DTSTAMP:20260419T224733
CREATED:20240627T154617Z
LAST-MODIFIED:20240627T154639Z
UID:2673-1726135200-1726142400@hierinwest.nl
SUMMARY:Yoga
DESCRIPTION:Samen yoga leren en doen
URL:https://hierinwest.nl/activiteit/yoga/
LOCATION:Wijkpastoraat\, Burg Meineszstraat 4\, Rotterdam\, Zuid-Holland\, 3022XE\, Nederland
CATEGORIES:Zingeving
ATTACH;FMTTYPE=image/jpeg:https://hierinwest.nl/wp-content/uploads/2023/10/Yoga-in-Delfshaven.jpg
ORGANIZER;CN="Wijkpastoraat Rotterdam-West":MAILTO:info@stichtingwijkpastoraatrotterdamwest.nl
END:VEVENT
BEGIN:VEVENT
DTSTART;TZID=Europe/Amsterdam:20240912T120000
DTEND;TZID=Europe/Amsterdam:20240912T130000
DTSTAMP:20260419T224733
CREATED:20240627T125009Z
LAST-MODIFIED:20240627T125011Z
UID:2586-1726142400-1726146000@hierinwest.nl
SUMMARY:Stoelyoga
DESCRIPTION:Rustig bewegen en concentreren
URL:https://hierinwest.nl/activiteit/stoelyoga/
LOCATION:Laurens\, Mathenesserlaan 500\, Rotterdam\, Zuid-Holland\, 3023 HL\, Nederland
CATEGORIES:Gezond,Leren,Zingeving
ATTACH;FMTTYPE=image/jpeg:https://hierinwest.nl/wp-content/uploads/2023/09/Stoelyoga-.jpg
END:VEVENT
BEGIN:VEVENT
DTSTART;TZID=Europe/Amsterdam:20240914T093000
DTEND;TZID=Europe/Amsterdam:20240914T110000
DTSTAMP:20260419T224733
CREATED:20240709T104313Z
LAST-MODIFIED:20240709T104411Z
UID:2857-1726306200-1726311600@hierinwest.nl
SUMMARY:Yoga
DESCRIPTION:Lekker lichamelijk en geestelijk ontspannen door middel van oefeningen.
URL:https://hierinwest.nl/activiteit/yoga-2/
LOCATION:Huiskamer de Pupillen\, Pupillenstraat 107\, Rotterdam\, Zuid-Holland\, 3023 VR\, Nederland
CATEGORIES:Gezond,Leren
ATTACH;FMTTYPE=image/jpeg:https://hierinwest.nl/wp-content/uploads/2023/10/Yoga-in-Delfshaven.jpg
END:VEVENT
END:VCALENDAR