BEGIN:VCALENDAR
VERSION:2.0
PRODID:-//Wijkagenda - ECPv6.15.20//NONSGML v1.0//EN
CALSCALE:GREGORIAN
METHOD:PUBLISH
X-ORIGINAL-URL:https://hierinwest.nl
X-WR-CALDESC:Evenementen voor Wijkagenda
REFRESH-INTERVAL;VALUE=DURATION:PT1H
X-Robots-Tag:noindex
X-PUBLISHED-TTL:PT1H
BEGIN:VTIMEZONE
TZID:Europe/Amsterdam
BEGIN:DAYLIGHT
TZOFFSETFROM:+0100
TZOFFSETTO:+0200
TZNAME:CEST
DTSTART:20230326T010000
END:DAYLIGHT
BEGIN:STANDARD
TZOFFSETFROM:+0200
TZOFFSETTO:+0100
TZNAME:CET
DTSTART:20231029T010000
END:STANDARD
BEGIN:DAYLIGHT
TZOFFSETFROM:+0100
TZOFFSETTO:+0200
TZNAME:CEST
DTSTART:20240331T010000
END:DAYLIGHT
BEGIN:STANDARD
TZOFFSETFROM:+0200
TZOFFSETTO:+0100
TZNAME:CET
DTSTART:20241027T010000
END:STANDARD
BEGIN:DAYLIGHT
TZOFFSETFROM:+0100
TZOFFSETTO:+0200
TZNAME:CEST
DTSTART:20250330T010000
END:DAYLIGHT
BEGIN:STANDARD
TZOFFSETFROM:+0200
TZOFFSETTO:+0100
TZNAME:CET
DTSTART:20251026T010000
END:STANDARD
END:VTIMEZONE
BEGIN:VEVENT
DTSTART;TZID=Europe/Amsterdam:20240909T090000
DTEND;TZID=Europe/Amsterdam:20240909T120000
DTSTAMP:20260421T173441
CREATED:20240627T140936Z
LAST-MODIFIED:20240627T140938Z
UID:2621-1725872400-1725883200@hierinwest.nl
SUMMARY:Kledingmarkt
DESCRIPTION:Goedkope kleding voor heel het gezin
URL:https://hierinwest.nl/activiteit/kledingmarkt/
LOCATION:Het Nozepandje\, Hooidrift 45\, Rotterdam\, 3023 KH
CATEGORIES:Hulp,Maken
ATTACH;FMTTYPE=image/jpeg:https://hierinwest.nl/wp-content/uploads/2023/10/Koffieochtend-kledingmarkt.jpg
ORGANIZER;CN="Nozepandje":MAILTO:hetnozepandje@gmail.com
END:VEVENT
BEGIN:VEVENT
DTSTART;TZID=Europe/Amsterdam:20240909T090000
DTEND;TZID=Europe/Amsterdam:20240909T120000
DTSTAMP:20260421T173441
CREATED:20240627T140936Z
LAST-MODIFIED:20240627T140938Z
UID:2621-1725872400-1725883200@hierinwest.nl
SUMMARY:Kledingmarkt
DESCRIPTION:Goedkope kleding voor heel het gezin
URL:https://hierinwest.nl/activiteit/kledingmarkt/
LOCATION:Het Nozepandje\, Hooidrift 45\, Rotterdam\, 3023 KH
CATEGORIES:Hulp,Maken
ATTACH;FMTTYPE=image/jpeg:https://hierinwest.nl/wp-content/uploads/2023/10/Koffieochtend-kledingmarkt.jpg
ORGANIZER;CN="Nozepandje":MAILTO:hetnozepandje@gmail.com
END:VEVENT
BEGIN:VEVENT
DTSTART;TZID=Europe/Amsterdam:20240909T090000
DTEND;TZID=Europe/Amsterdam:20240909T120000
DTSTAMP:20260421T173441
CREATED:20240627T140936Z
LAST-MODIFIED:20240627T140938Z
UID:2621-1725872400-1725883200@hierinwest.nl
SUMMARY:Kledingmarkt
DESCRIPTION:Goedkope kleding voor heel het gezin
URL:https://hierinwest.nl/activiteit/kledingmarkt/
LOCATION:Het Nozepandje\, Hooidrift 45\, Rotterdam\, 3023 KH
CATEGORIES:Hulp,Maken
ATTACH;FMTTYPE=image/jpeg:https://hierinwest.nl/wp-content/uploads/2023/10/Koffieochtend-kledingmarkt.jpg
ORGANIZER;CN="Nozepandje":MAILTO:hetnozepandje@gmail.com
END:VEVENT
BEGIN:VEVENT
DTSTART;TZID=Europe/Amsterdam:20240909T090000
DTEND;TZID=Europe/Amsterdam:20240909T120000
DTSTAMP:20260421T173441
CREATED:20240627T140936Z
LAST-MODIFIED:20240627T140938Z
UID:2621-1725872400-1725883200@hierinwest.nl
SUMMARY:Kledingmarkt
DESCRIPTION:Goedkope kleding voor heel het gezin
URL:https://hierinwest.nl/activiteit/kledingmarkt/
LOCATION:Het Nozepandje\, Hooidrift 45\, Rotterdam\, 3023 KH
CATEGORIES:Hulp,Maken
ATTACH;FMTTYPE=image/jpeg:https://hierinwest.nl/wp-content/uploads/2023/10/Koffieochtend-kledingmarkt.jpg
ORGANIZER;CN="Nozepandje":MAILTO:hetnozepandje@gmail.com
END:VEVENT
END:VCALENDAR