BEGIN:VCALENDAR
VERSION:2.0
PRODID:-//Wijkagenda - ECPv6.15.20//NONSGML v1.0//EN
CALSCALE:GREGORIAN
METHOD:PUBLISH
X-ORIGINAL-URL:https://hierinwest.nl
X-WR-CALDESC:Evenementen voor Wijkagenda
REFRESH-INTERVAL;VALUE=DURATION:PT1H
X-Robots-Tag:noindex
X-PUBLISHED-TTL:PT1H
BEGIN:VTIMEZONE
TZID:Europe/Amsterdam
BEGIN:DAYLIGHT
TZOFFSETFROM:+0100
TZOFFSETTO:+0200
TZNAME:CEST
DTSTART:20230326T010000
END:DAYLIGHT
BEGIN:STANDARD
TZOFFSETFROM:+0200
TZOFFSETTO:+0100
TZNAME:CET
DTSTART:20231029T010000
END:STANDARD
BEGIN:DAYLIGHT
TZOFFSETFROM:+0100
TZOFFSETTO:+0200
TZNAME:CEST
DTSTART:20240331T010000
END:DAYLIGHT
BEGIN:STANDARD
TZOFFSETFROM:+0200
TZOFFSETTO:+0100
TZNAME:CET
DTSTART:20241027T010000
END:STANDARD
BEGIN:DAYLIGHT
TZOFFSETFROM:+0100
TZOFFSETTO:+0200
TZNAME:CEST
DTSTART:20250330T010000
END:DAYLIGHT
BEGIN:STANDARD
TZOFFSETFROM:+0200
TZOFFSETTO:+0100
TZNAME:CET
DTSTART:20251026T010000
END:STANDARD
BEGIN:DAYLIGHT
TZOFFSETFROM:+0100
TZOFFSETTO:+0200
TZNAME:CEST
DTSTART:20260329T010000
END:DAYLIGHT
BEGIN:STANDARD
TZOFFSETFROM:+0200
TZOFFSETTO:+0100
TZNAME:CET
DTSTART:20261025T010000
END:STANDARD
END:VTIMEZONE
BEGIN:VEVENT
DTSTART;TZID=Europe/Amsterdam:20240910T180000
DTEND;TZID=Europe/Amsterdam:20240910T193000
DTSTAMP:20260423T003625
CREATED:20240627T103244Z
LAST-MODIFIED:20240709T120945Z
UID:2477-1725991200-1725996600@hierinwest.nl
SUMMARY:Flamenco Klappen
DESCRIPTION:Mooie flamenco-ritmes klappen met je handen (18+)
URL:https://hierinwest.nl/activiteit/flamenco-klappen/
LOCATION:Post West\, Tidemanstraat 80\, Rotterdam\, 3022 SM\, Nederland
CATEGORIES:Gezond,Leren
ATTACH;FMTTYPE=image/jpeg:https://hierinwest.nl/wp-content/uploads/2024/06/Flamenco-Klappen.jpg
END:VEVENT
BEGIN:VEVENT
DTSTART;TZID=Europe/Amsterdam:20240910T180000
DTEND;TZID=Europe/Amsterdam:20240910T203000
DTSTAMP:20260423T003625
CREATED:20240627T140801Z
LAST-MODIFIED:20240627T140803Z
UID:2619-1725991200-1726000200@hierinwest.nl
SUMMARY:Nederlandse taalles
DESCRIPTION:Taalles voor niveau A0-A2
URL:https://hierinwest.nl/activiteit/nederlandse-taalles/
LOCATION:Het Nozepandje\, Hooidrift 45\, Rotterdam\, 3023 KH
CATEGORIES:Leren
ATTACH;FMTTYPE=image/jpeg:https://hierinwest.nl/wp-content/uploads/2023/10/Taalles.jpg
ORGANIZER;CN="Nozepandje":MAILTO:hetnozepandje@gmail.com
END:VEVENT
BEGIN:VEVENT
DTSTART;TZID=Europe/Amsterdam:20240910T180000
DTEND;TZID=Europe/Amsterdam:20240910T210000
DTSTAMP:20260423T003625
CREATED:20240627T104503Z
LAST-MODIFIED:20240627T195600Z
UID:2491-1725991200-1726002000@hierinwest.nl
SUMMARY:Nederlandse Taal
DESCRIPTION:Taalles voor Portugees sprekenden\, 18+
URL:https://hierinwest.nl/activiteit/nederlandse-taal-7/
LOCATION:Post West\, Tidemanstraat 80\, Rotterdam\, 3022 SM\, Nederland
CATEGORIES:Leren
ATTACH;FMTTYPE=image/jpeg:https://hierinwest.nl/wp-content/uploads/2023/10/Taalles.jpg
END:VEVENT
BEGIN:VEVENT
DTSTART;TZID=Europe/Amsterdam:20240908T180000
DTEND;TZID=Europe/Amsterdam:20240908T220000
DTSTAMP:20260423T003625
CREATED:20240627T112051Z
LAST-MODIFIED:20240709T114339Z
UID:2526-1725818400-1725832800@hierinwest.nl
SUMMARY:Muziekles
DESCRIPTION:Samen muziek maken en talent ontwikkelen\, 18+
URL:https://hierinwest.nl/activiteit/muziekles-3/
LOCATION:Post West\, Tidemanstraat 80\, Rotterdam\, 3022 SM\, Nederland
CATEGORIES:Cultuur,Leren,Maken
ATTACH;FMTTYPE=image/jpeg:https://hierinwest.nl/wp-content/uploads/2023/12/Muziekles.jpg
END:VEVENT
BEGIN:VEVENT
DTSTART;TZID=Europe/Amsterdam:20240910T190000
DTEND;TZID=Europe/Amsterdam:20240910T203000
DTSTAMP:20260423T003625
CREATED:20240709T113607Z
LAST-MODIFIED:20240709T113631Z
UID:2892-1725994800-1726000200@hierinwest.nl
SUMMARY:Muziek-inloop Living Room
DESCRIPTION:Werken aan talenten onder begeleiding
URL:https://hierinwest.nl/activiteit/muziek-inloop-living-room-2/
LOCATION:Living Room\, Hooidrift 106\, Rotterdam\, 3023KV
CATEGORIES:Cultuur,Maken,Ontmoeten
ATTACH;FMTTYPE=image/jpeg:https://hierinwest.nl/wp-content/uploads/2024/07/Muziek-inloop-Living-Room.jpg
END:VEVENT
BEGIN:VEVENT
DTSTART;TZID=Europe/Amsterdam:20240910T190000
DTEND;TZID=Europe/Amsterdam:20240910T210000
DTSTAMP:20260423T003625
CREATED:20240627T103723Z
LAST-MODIFIED:20240627T195531Z
UID:2486-1725994800-1726002000@hierinwest.nl
SUMMARY:Voice of all women
DESCRIPTION:Voorlichting\, advies voor mannen\, 25+
URL:https://hierinwest.nl/activiteit/voice-of-all-women-4/
LOCATION:Post West\, Tidemanstraat 80\, Rotterdam\, 3022 SM\, Nederland
CATEGORIES:Hulp
ATTACH;FMTTYPE=image/jpeg:https://hierinwest.nl/wp-content/uploads/2023/12/Voice-Of-All-Women.jpg
END:VEVENT
BEGIN:VEVENT
DTSTART;TZID=Europe/Amsterdam:20240910T210000
DTEND;TZID=Europe/Amsterdam:20240910T235900
DTSTAMP:20260423T003625
CREATED:20240709T113007Z
LAST-MODIFIED:20240709T113010Z
UID:2880-1726002000-1726012740@hierinwest.nl
SUMMARY:Muziek-inloop Living Room
DESCRIPTION:Werken aan talenten onder begeleiding
URL:https://hierinwest.nl/activiteit/muziek-inloop-living-room/
LOCATION:Living Room\, Hooidrift 106\, Rotterdam\, 3023KV
CATEGORIES:Cultuur,Maken,Ontmoeten
ATTACH;FMTTYPE=image/jpeg:https://hierinwest.nl/wp-content/uploads/2024/07/Muziek-inloop-Living-Room.jpg
END:VEVENT
BEGIN:VEVENT
DTSTART;TZID=Europe/Amsterdam:20240909T080000
DTEND;TZID=Europe/Amsterdam:20240909T120000
DTSTAMP:20260423T003625
CREATED:20240627T151246Z
LAST-MODIFIED:20240627T151249Z
UID:2645-1725868800-1725883200@hierinwest.nl
SUMMARY:Vrouwen Emancipatie
DESCRIPTION:Gespreksgroep van vrouwen die samen ontbijten\, vrijwillige bijdrage
URL:https://hierinwest.nl/activiteit/vrouwen-emancipatie-3/
LOCATION:Pandje010\, Beukelsdijk 153c\, Rotterdam\, Zuid-Holland\, 3022DD\, Nederland
CATEGORIES:Gezond,Hulp,Leren,Ontmoeten
ATTACH;FMTTYPE=image/jpeg:https://hierinwest.nl/wp-content/uploads/2023/08/Vrouwengroep-1.jpg
END:VEVENT
BEGIN:VEVENT
DTSTART;TZID=Europe/Amsterdam:20240911T090000
DTEND;TZID=Europe/Amsterdam:20240911T120000
DTSTAMP:20260423T003625
CREATED:20240627T122040Z
LAST-MODIFIED:20240628T161146Z
UID:2545-1726045200-1726056000@hierinwest.nl
SUMMARY:Wandelen door de wijk
DESCRIPTION:Samen met buurtbewoners lopen en praten
URL:https://hierinwest.nl/activiteit/wandelen-door-de-wijk-2/
LOCATION:Post West\, Tidemanstraat 80\, Rotterdam\, 3022 SM\, Nederland
CATEGORIES:Gezond,Groen
ATTACH;FMTTYPE=image/jpeg:https://hierinwest.nl/wp-content/uploads/2023/10/Wandelen-in-Delfshaven.jpg
END:VEVENT
BEGIN:VEVENT
DTSTART;TZID=Europe/Amsterdam:20240911T090000
DTEND;TZID=Europe/Amsterdam:20240911T120000
DTSTAMP:20260423T003625
CREATED:20240627T153328Z
LAST-MODIFIED:20240627T153553Z
UID:2662-1726045200-1726056000@hierinwest.nl
SUMMARY:Formulierenhulp
DESCRIPTION:Formulierenhulp en vragen rond zorg
URL:https://hierinwest.nl/activiteit/formulierenhulp/
LOCATION:Rotz\, Aelbrechtskade 122b\, Rotterdam\, Zuid-Holland\, 3023JE\, Nederland
CATEGORIES:Hulp
ATTACH;FMTTYPE=image/jpeg:https://hierinwest.nl/wp-content/uploads/2023/12/Formulierenhulp-Rotz.jpg
END:VEVENT
BEGIN:VEVENT
DTSTART;TZID=Europe/Amsterdam:20240909T090000
DTEND;TZID=Europe/Amsterdam:20240909T170000
DTSTAMP:20260423T003625
CREATED:20240627T115718Z
LAST-MODIFIED:20250108T152600Z
UID:2534-1725872400-1725901200@hierinwest.nl
SUMMARY:Advies van Azagua
DESCRIPTION:Hulp bij financiën\, administratie\, formulieren
URL:https://hierinwest.nl/activiteit/advies-van-azagua-3/
LOCATION:Post West\, Tidemanstraat 80\, Rotterdam\, 3022 SM\, Nederland
CATEGORIES:Hulp
ATTACH;FMTTYPE=image/jpeg:https://hierinwest.nl/wp-content/uploads/2024/07/Pilates-e1736349948536.jpg
ORGANIZER;CN="Stichting Azagua":MAILTO:info@azagua.nl
END:VEVENT
BEGIN:VEVENT
DTSTART;TZID=Europe/Amsterdam:20240909T090000
DTEND;TZID=Europe/Amsterdam:20240909T170000
DTSTAMP:20260423T003625
CREATED:20240709T113328Z
LAST-MODIFIED:20250108T151651Z
UID:2890-1725872400-1725901200@hierinwest.nl
SUMMARY:Advies van Riedijk
DESCRIPTION:Hulp bij financiën\, administratie\, formulieren \n\n\n\nContact: Peter Riedijk (06-46398899)
URL:https://hierinwest.nl/activiteit/advies-van-riedijk/
LOCATION:Post West\, Tidemanstraat 80\, Rotterdam\, 3022 SM\, Nederland
CATEGORIES:Hulp,Ontmoeten
ATTACH;FMTTYPE=image/jpeg:https://hierinwest.nl/wp-content/uploads/2023/12/Advies-van-Riedijk.jpg
END:VEVENT
BEGIN:VEVENT
DTSTART;TZID=Europe/Amsterdam:20240911T093000
DTEND;TZID=Europe/Amsterdam:20240911T110000
DTSTAMP:20260423T003625
CREATED:20240627T152842Z
LAST-MODIFIED:20240627T152844Z
UID:2658-1726047000-1726052400@hierinwest.nl
SUMMARY:Open inloop
DESCRIPTION:Ontmoeting en advies
URL:https://hierinwest.nl/activiteit/open-inloop/
LOCATION:Rotz\, Aelbrechtskade 122b\, Rotterdam\, Zuid-Holland\, 3023JE\, Nederland
CATEGORIES:Gezond
ATTACH;FMTTYPE=image/jpeg:https://hierinwest.nl/wp-content/uploads/2023/12/Open-inloop.jpg
END:VEVENT
BEGIN:VEVENT
DTSTART;TZID=Europe/Amsterdam:20240911T093000
DTEND;TZID=Europe/Amsterdam:20240911T113000
DTSTAMP:20260423T003625
CREATED:20240709T101537Z
LAST-MODIFIED:20240709T101558Z
UID:2815-1726047000-1726054200@hierinwest.nl
SUMMARY:Herstelacademie
DESCRIPTION:Werken aan je mentale gezondheid
URL:https://hierinwest.nl/activiteit/herstelacademie/
LOCATION:Huiskamer de Pupillen\, Pupillenstraat 107\, Rotterdam\, Zuid-Holland\, 3023 VR\, Nederland
CATEGORIES:Leren,Maken,Ontmoeten
ATTACH;FMTTYPE=image/jpeg:https://hierinwest.nl/wp-content/uploads/2024/07/Herstelacademie.jpeg
ORGANIZER;CN="WMO Radar":MAILTO:jessica.riedewald@wmoradar.nl
END:VEVENT
BEGIN:VEVENT
DTSTART;TZID=Europe/Amsterdam:20240911T100000
DTEND;TZID=Europe/Amsterdam:20240911T100000
DTSTAMP:20260423T003625
CREATED:20240627T153030Z
LAST-MODIFIED:20240627T153033Z
UID:2660-1726048800-1726048800@hierinwest.nl
SUMMARY:Sport voor vrouwen
DESCRIPTION:Met vrouwen goed sporten in afgeschermde ruimte
URL:https://hierinwest.nl/activiteit/sport-voor-vrouwen-2/
LOCATION:Rotz\, Aelbrechtskade 122b\, Rotterdam\, Zuid-Holland\, 3023JE\, Nederland
CATEGORIES:Gezond
ATTACH;FMTTYPE=image/jpeg:https://hierinwest.nl/wp-content/uploads/2023/02/Samen-sporten-1.jpg
END:VEVENT
BEGIN:VEVENT
DTSTART;TZID=Europe/Amsterdam:20240911T100000
DTEND;TZID=Europe/Amsterdam:20240911T120000
DTSTAMP:20260423T003625
CREATED:20240627T125748Z
LAST-MODIFIED:20240627T125750Z
UID:2592-1726048800-1726056000@hierinwest.nl
SUMMARY:Zumba en Gesprekken
DESCRIPTION:Beweegles en conversatie
URL:https://hierinwest.nl/activiteit/zumba-en-gesprekken-2/
LOCATION:Laurens\, Mathenesserlaan 500\, Rotterdam\, Zuid-Holland\, 3023 HL\, Nederland
CATEGORIES:Cultuur,Gezond
ATTACH;FMTTYPE=image/jpeg:https://hierinwest.nl/wp-content/uploads/2023/12/Zumba-en-gesprekken.jpg
ORGANIZER;CN="Laurens":MAILTO:laurensentree@laurens.nl
END:VEVENT
BEGIN:VEVENT
DTSTART;TZID=Europe/Amsterdam:20240909T100000
DTEND;TZID=Europe/Amsterdam:20240909T120000
DTSTAMP:20260423T003625
CREATED:20240627T154824Z
LAST-MODIFIED:20240627T154827Z
UID:2675-1725876000-1725883200@hierinwest.nl
SUMMARY:Taalles\, conversatie
DESCRIPTION:Taalles met conversatie\, Nederlands leren door praten \n\n\n\nContact: Wijkpastoraat\, 010-4255825
URL:https://hierinwest.nl/activiteit/taalles-conversatie-2/
LOCATION:Wijkpastoraat\, Burg Meineszstraat 4\, Rotterdam\, Zuid-Holland\, 3022XE\, Nederland
CATEGORIES:Leren,Ontmoeten
ATTACH;FMTTYPE=image/jpeg:https://hierinwest.nl/wp-content/uploads/2023/10/Taalles.jpg
ORGANIZER;CN="Wijkpastoraat Rotterdam-West":MAILTO:info@stichtingwijkpastoraatrotterdamwest.nl
END:VEVENT
BEGIN:VEVENT
DTSTART;TZID=Europe/Amsterdam:20240911T100000
DTEND;TZID=Europe/Amsterdam:20240911T120000
DTSTAMP:20260423T003625
CREATED:20240627T162828Z
LAST-MODIFIED:20240709T094146Z
UID:2702-1726048800-1726056000@hierinwest.nl
SUMMARY:Themagroep Somalische vrouwen
DESCRIPTION:Thema bijeenkomst Somalische vrouwen
URL:https://hierinwest.nl/activiteit/thema-bijeenkomst/
LOCATION:Wijkpastoraat\, Burg Meineszstraat 4\, Rotterdam\, Zuid-Holland\, 3022XE\, Nederland
CATEGORIES:Ontmoeten
ATTACH;FMTTYPE=image/jpeg:https://hierinwest.nl/wp-content/uploads/2023/10/Koffiegroep.jpg
ORGANIZER;CN="Wijkpastoraat Rotterdam-West":MAILTO:info@stichtingwijkpastoraatrotterdamwest.nl
END:VEVENT
BEGIN:VEVENT
DTSTART;TZID=Europe/Amsterdam:20250108T113000
DTEND;TZID=Europe/Amsterdam:20250108T153000
DTSTAMP:20260423T003625
CREATED:20250206T123316Z
LAST-MODIFIED:20250206T123907Z
UID:7183-1736335800-1736350200@hierinwest.nl
SUMMARY:Buurtrestaurant
DESCRIPTION:Elke woensdag kun je aanschuiven voor een warme lunch in het Design College! Kom langs en geniet!
URL:https://hierinwest.nl/activiteit/buurtrestaurant/
LOCATION:Design College\, Beukelsdijk 145\, Rotterdam\, Zuid-Holland\, 3022DC\, Nederland
CATEGORIES:Ontmoeten
ATTACH;FMTTYPE=image/jpeg:https://hierinwest.nl/wp-content/uploads/2023/12/Buurtmaaltijden.jpg
END:VEVENT
BEGIN:VEVENT
DTSTART;TZID=Europe/Amsterdam:20240911T120000
DTEND;TZID=Europe/Amsterdam:20240911T153000
DTSTAMP:20260423T003625
CREATED:20240627T161718Z
LAST-MODIFIED:20240627T161931Z
UID:2688-1726056000-1726068600@hierinwest.nl
SUMMARY:Beweeggroep
DESCRIPTION:Samen bewegen en gezond blijven
URL:https://hierinwest.nl/activiteit/beweeggroep/
LOCATION:Wijkpastoraat\, Burg Meineszstraat 4\, Rotterdam\, Zuid-Holland\, 3022XE\, Nederland
CATEGORIES:Gezond
ATTACH;FMTTYPE=image/jpeg:https://hierinwest.nl/wp-content/uploads/2023/10/Beweeggroep-Laurens.jpg
ORGANIZER;CN="Wijkpastoraat Rotterdam-West":MAILTO:info@stichtingwijkpastoraatrotterdamwest.nl
END:VEVENT
BEGIN:VEVENT
DTSTART;TZID=Europe/Amsterdam:20240911T120000
DTEND;TZID=Europe/Amsterdam:20240911T170000
DTSTAMP:20260423T003625
CREATED:20240627T123027Z
LAST-MODIFIED:20240627T123115Z
UID:2556-1726056000-1726074000@hierinwest.nl
SUMMARY:MZC dagbesteding
DESCRIPTION:Ontmoeting met ouderen onder elkaar
URL:https://hierinwest.nl/activiteit/mzc-dagbesteding/
LOCATION:Laurens\, Mathenesserlaan 500\, Rotterdam\, Zuid-Holland\, 3023 HL\, Nederland
CATEGORIES:Cultuur,Gezond
ATTACH;FMTTYPE=image/jpeg:https://hierinwest.nl/wp-content/uploads/2023/09/MZC-dagbesteding-Delfshaven.jpg
END:VEVENT
BEGIN:VEVENT
DTSTART;TZID=Europe/Amsterdam:20240911T123000
DTEND;TZID=Europe/Amsterdam:20240911T133000
DTSTAMP:20260423T003625
CREATED:20240627T163347Z
LAST-MODIFIED:20240627T163348Z
UID:2705-1726057800-1726061400@hierinwest.nl
SUMMARY:Dansen op muziek
DESCRIPTION:Samen dansen op muziek
URL:https://hierinwest.nl/activiteit/dansen-op-muziek/
LOCATION:Wijkpastoraat\, Burg Meineszstraat 4\, Rotterdam\, Zuid-Holland\, 3022XE\, Nederland
CATEGORIES:Gezond
ATTACH;FMTTYPE=image/jpeg:https://hierinwest.nl/wp-content/uploads/2024/06/Dansen-op-muziek.jpg
ORGANIZER;CN="Wijkpastoraat Rotterdam-West":MAILTO:info@stichtingwijkpastoraatrotterdamwest.nl
END:VEVENT
BEGIN:VEVENT
DTSTART;TZID=Europe/Amsterdam:20240911T130000
DTEND;TZID=Europe/Amsterdam:20240911T150000
DTSTAMP:20260423T003625
CREATED:20240627T122728Z
LAST-MODIFIED:20240627T122731Z
UID:2551-1726059600-1726066800@hierinwest.nl
SUMMARY:Meidenclub
DESCRIPTION:Leuke meiden dingen doen.
URL:https://hierinwest.nl/activiteit/meidenclub-2/
LOCATION:Post West\, Tidemanstraat 80\, Rotterdam\, 3022 SM\, Nederland
CATEGORIES:Gezond,Maken
ATTACH;FMTTYPE=image/jpeg:https://hierinwest.nl/wp-content/uploads/2023/12/Meidenclub.jpg
ORGANIZER;CN="WMO Radar":MAILTO:jessica.riedewald@wmoradar.nl
END:VEVENT
BEGIN:VEVENT
DTSTART;TZID=Europe/Amsterdam:20240911T130000
DTEND;TZID=Europe/Amsterdam:20240911T153000
DTSTAMP:20260423T003625
CREATED:20240627T150605Z
LAST-MODIFIED:20240627T150739Z
UID:2643-1726059600-1726068600@hierinwest.nl
SUMMARY:Voorlezen
DESCRIPTION:Voorlezen en taalontwikkeling
URL:https://hierinwest.nl/activiteit/voorlezen/
LOCATION:Het Nozepandje\, Hooidrift 45\, Rotterdam\, 3023 KH
CATEGORIES:Leren
ATTACH;FMTTYPE=image/jpeg:https://hierinwest.nl/wp-content/uploads/2023/10/Voorlezen-in-het-Nozepandje.jpg
ORGANIZER;CN="Nozepandje":MAILTO:hetnozepandje@gmail.com
END:VEVENT
BEGIN:VEVENT
DTSTART;TZID=Europe/Amsterdam:20240911T140000
DTEND;TZID=Europe/Amsterdam:20240911T150000
DTSTAMP:20260423T003625
CREATED:20240627T163702Z
LAST-MODIFIED:20240627T163704Z
UID:2709-1726063200-1726066800@hierinwest.nl
SUMMARY:Bewegen op muziek
DESCRIPTION:Samen bewegen en gezond blijven
URL:https://hierinwest.nl/activiteit/bewegen-op-muziek/
LOCATION:Wijkpastoraat\, Burg Meineszstraat 4\, Rotterdam\, Zuid-Holland\, 3022XE\, Nederland
CATEGORIES:Gezond
ATTACH;FMTTYPE=image/jpeg:https://hierinwest.nl/wp-content/uploads/2024/06/Bewegen-op-muziek.jpg
ORGANIZER;CN="Wijkpastoraat Rotterdam-West":MAILTO:info@stichtingwijkpastoraatrotterdamwest.nl
END:VEVENT
BEGIN:VEVENT
DTSTART;TZID=Europe/Amsterdam:20240911T140000
DTEND;TZID=Europe/Amsterdam:20240911T153000
DTSTAMP:20260423T003625
CREATED:20240627T125949Z
LAST-MODIFIED:20240627T125951Z
UID:2594-1726063200-1726068600@hierinwest.nl
SUMMARY:Muziekoptreden
DESCRIPTION:Elke week een andere band met frisse muziek
URL:https://hierinwest.nl/activiteit/muziekoptreden/
LOCATION:Laurens\, Mathenesserlaan 500\, Rotterdam\, Zuid-Holland\, 3023 HL\, Nederland
CATEGORIES:Cultuur,Maken
ATTACH;FMTTYPE=image/jpeg:https://hierinwest.nl/wp-content/uploads/2023/10/Muziekoptreden-Laurens.jpg
ORGANIZER;CN="Laurens":MAILTO:laurensentree@laurens.nl
END:VEVENT
BEGIN:VEVENT
DTSTART;TZID=Europe/Amsterdam:20240911T140000
DTEND;TZID=Europe/Amsterdam:20240911T160000
DTSTAMP:20260423T003625
CREATED:20240627T151857Z
LAST-MODIFIED:20240627T151925Z
UID:2647-1726063200-1726070400@hierinwest.nl
SUMMARY:Knutselmiddag
DESCRIPTION:Creativiteit met kinderen (4-12 jaar)
URL:https://hierinwest.nl/activiteit/knutselmiddag/
LOCATION:Pandje010\, Beukelsdijk 153c\, Rotterdam\, Zuid-Holland\, 3022DD\, Nederland
CATEGORIES:Leren,Maken
ATTACH;FMTTYPE=image/jpeg:https://hierinwest.nl/wp-content/uploads/2023/12/Knutselmiddag.jpg
END:VEVENT
BEGIN:VEVENT
DTSTART;TZID=Europe/Amsterdam:20240911T140000
DTEND;TZID=Europe/Amsterdam:20240911T170000
DTSTAMP:20260423T003625
CREATED:20240627T140326Z
LAST-MODIFIED:20240627T140353Z
UID:2613-1726063200-1726074000@hierinwest.nl
SUMMARY:Pupillenkids
DESCRIPTION:Vrolijke kinderclub\, met bewegen\, spel en creativiteit (4-12 jaar)
URL:https://hierinwest.nl/activiteit/pupillenkids/
LOCATION:Leespaleis\, Heemraadstraat 60\, Rotterdam\, Zuid-Holland\, 3023VJ\, Nederland
CATEGORIES:Leren,Maken
ATTACH;FMTTYPE=image/jpeg:https://hierinwest.nl/wp-content/uploads/2023/10/Pupillenkidz-1-1.jpeg
END:VEVENT
BEGIN:VEVENT
DTSTART;TZID=Europe/Amsterdam:20240911T140000
DTEND;TZID=Europe/Amsterdam:20240911T170000
DTSTAMP:20260423T003625
CREATED:20240627T145443Z
LAST-MODIFIED:20240627T145444Z
UID:2635-1726063200-1726074000@hierinwest.nl
SUMMARY:Kinderactiviteit
DESCRIPTION:Vrolijke spelmiddag voor kinderen (4-12 jaar)
URL:https://hierinwest.nl/activiteit/kinderactiviteit/
LOCATION:Het Nozepandje\, Hooidrift 45\, Rotterdam\, 3023 KH
CATEGORIES:Leren,Maken
ATTACH;FMTTYPE=image/jpeg:https://hierinwest.nl/wp-content/uploads/2023/10/Kinderactiviteit-Nozepandje.jpg
ORGANIZER;CN="Nozepandje":MAILTO:hetnozepandje@gmail.com
END:VEVENT
BEGIN:VEVENT
DTSTART;TZID=Europe/Amsterdam:20240911T140000
DTEND;TZID=Europe/Amsterdam:20240911T200000
DTSTAMP:20260423T003625
CREATED:20240627T122234Z
LAST-MODIFIED:20240627T122348Z
UID:2547-1726063200-1726084800@hierinwest.nl
SUMMARY:Huiswerkbegeleiding
DESCRIPTION:Hulp bij het huiswerk
URL:https://hierinwest.nl/activiteit/huiswerkbegeleiding/
LOCATION:Post West\, Tidemanstraat 80\, Rotterdam\, 3022 SM\, Nederland
CATEGORIES:Hulp,Leren
ATTACH;FMTTYPE=image/jpeg:https://hierinwest.nl/wp-content/uploads/2023/10/Huiswerk-—-Leespaleis-1-1.jpg
END:VEVENT
END:VCALENDAR