BEGIN:VCALENDAR
VERSION:2.0
PRODID:-//Wijkagenda - ECPv6.15.20//NONSGML v1.0//EN
CALSCALE:GREGORIAN
METHOD:PUBLISH
X-ORIGINAL-URL:https://hierinwest.nl
X-WR-CALDESC:Evenementen voor Wijkagenda
REFRESH-INTERVAL;VALUE=DURATION:PT1H
X-Robots-Tag:noindex
X-PUBLISHED-TTL:PT1H
BEGIN:VTIMEZONE
TZID:Europe/Amsterdam
BEGIN:DAYLIGHT
TZOFFSETFROM:+0100
TZOFFSETTO:+0200
TZNAME:CEST
DTSTART:20230326T010000
END:DAYLIGHT
BEGIN:STANDARD
TZOFFSETFROM:+0200
TZOFFSETTO:+0100
TZNAME:CET
DTSTART:20231029T010000
END:STANDARD
BEGIN:DAYLIGHT
TZOFFSETFROM:+0100
TZOFFSETTO:+0200
TZNAME:CEST
DTSTART:20240331T010000
END:DAYLIGHT
BEGIN:STANDARD
TZOFFSETFROM:+0200
TZOFFSETTO:+0100
TZNAME:CET
DTSTART:20241027T010000
END:STANDARD
BEGIN:DAYLIGHT
TZOFFSETFROM:+0100
TZOFFSETTO:+0200
TZNAME:CEST
DTSTART:20250330T010000
END:DAYLIGHT
BEGIN:STANDARD
TZOFFSETFROM:+0200
TZOFFSETTO:+0100
TZNAME:CET
DTSTART:20251026T010000
END:STANDARD
END:VTIMEZONE
BEGIN:VEVENT
DTSTART;TZID=Europe/Amsterdam:20240909T080000
DTEND;TZID=Europe/Amsterdam:20240909T120000
DTSTAMP:20260421T031116
CREATED:20240627T151246Z
LAST-MODIFIED:20240627T151249Z
UID:2645-1725868800-1725883200@hierinwest.nl
SUMMARY:Vrouwen Emancipatie
DESCRIPTION:Gespreksgroep van vrouwen die samen ontbijten\, vrijwillige bijdrage
URL:https://hierinwest.nl/activiteit/vrouwen-emancipatie-3/
LOCATION:Pandje010\, Beukelsdijk 153c\, Rotterdam\, Zuid-Holland\, 3022DD\, Nederland
CATEGORIES:Gezond,Hulp,Leren,Ontmoeten
ATTACH;FMTTYPE=image/jpeg:https://hierinwest.nl/wp-content/uploads/2023/08/Vrouwengroep-1.jpg
END:VEVENT
BEGIN:VEVENT
DTSTART;TZID=Europe/Amsterdam:20240910T180000
DTEND;TZID=Europe/Amsterdam:20240910T193000
DTSTAMP:20260421T031116
CREATED:20240627T103244Z
LAST-MODIFIED:20240709T120945Z
UID:2477-1725991200-1725996600@hierinwest.nl
SUMMARY:Flamenco Klappen
DESCRIPTION:Mooie flamenco-ritmes klappen met je handen (18+)
URL:https://hierinwest.nl/activiteit/flamenco-klappen/
LOCATION:Post West\, Tidemanstraat 80\, Rotterdam\, 3022 SM\, Nederland
CATEGORIES:Gezond,Leren
ATTACH;FMTTYPE=image/jpeg:https://hierinwest.nl/wp-content/uploads/2024/06/Flamenco-Klappen.jpg
END:VEVENT
BEGIN:VEVENT
DTSTART;TZID=Europe/Amsterdam:20240910T150000
DTEND;TZID=Europe/Amsterdam:20240910T170000
DTSTAMP:20260421T031116
CREATED:20240627T165428Z
LAST-MODIFIED:20240627T165428Z
UID:2732-1725980400-1725987600@hierinwest.nl
SUMMARY:Kids Club
DESCRIPTION:Samen spelen
URL:https://hierinwest.nl/activiteit/kids-club/
LOCATION:Wijkpastoraat\, Burg Meineszstraat 4\, Rotterdam\, Zuid-Holland\, 3022XE\, Nederland
CATEGORIES:Gezond,Maken
ATTACH;FMTTYPE=image/jpeg:https://hierinwest.nl/wp-content/uploads/2023/09/young-kids-cooking-together-1.jpg
ORGANIZER;CN="Wijkpastoraat Rotterdam-West":MAILTO:info@stichtingwijkpastoraatrotterdamwest.nl
END:VEVENT
BEGIN:VEVENT
DTSTART;TZID=Europe/Amsterdam:20240910T120000
DTEND;TZID=Europe/Amsterdam:20240910T130000
DTSTAMP:20260421T031116
CREATED:20240627T124853Z
LAST-MODIFIED:20240627T124854Z
UID:2584-1725969600-1725973200@hierinwest.nl
SUMMARY:Eten met Pameijer
DESCRIPTION:Gezonde\, gezamenlijke buurtlunch
URL:https://hierinwest.nl/activiteit/eten-met-pameijer/
LOCATION:Laurens\, Mathenesserlaan 500\, Rotterdam\, Zuid-Holland\, 3023 HL\, Nederland
CATEGORIES:Cultuur,Gezond
ATTACH;FMTTYPE=image/jpeg:https://hierinwest.nl/wp-content/uploads/2023/10/Eten-met-Pameijer.jpg
ORGANIZER;CN="Laurens":MAILTO:laurensentree@laurens.nl
END:VEVENT
BEGIN:VEVENT
DTSTART;TZID=Europe/Amsterdam:20240910T090000
DTEND;TZID=Europe/Amsterdam:20240910T120000
DTSTAMP:20260421T031116
CREATED:20240627T141311Z
LAST-MODIFIED:20240627T141313Z
UID:2623-1725958800-1725969600@hierinwest.nl
SUMMARY:Koffieochtend
DESCRIPTION:Inloop\, koffie\, gezelligheid
URL:https://hierinwest.nl/activiteit/koffieinloop/
LOCATION:Het Nozepandje\, Hooidrift 45\, Rotterdam\, 3023 KH
CATEGORIES:Gezond,Hulp
ATTACH;FMTTYPE=image/jpeg:https://hierinwest.nl/wp-content/uploads/2023/10/Inloop-Nozepandje-1.jpg
ORGANIZER;CN="Nozepandje":MAILTO:hetnozepandje@gmail.com
END:VEVENT
BEGIN:VEVENT
DTSTART;TZID=Europe/Amsterdam:20240910T080000
DTEND;TZID=Europe/Amsterdam:20240910T170000
DTSTAMP:20260421T031116
CREATED:20240627T165910Z
LAST-MODIFIED:20240627T165911Z
UID:2734-1725955200-1725987600@hierinwest.nl
SUMMARY:Spelen op straat
DESCRIPTION:Spelen met kinderen op pleinen
URL:https://hierinwest.nl/activiteit/spelen-op-straat/
LOCATION:Wijkpastoraat\, Burg Meineszstraat 4\, Rotterdam\, Zuid-Holland\, 3022XE\, Nederland
CATEGORIES:Gezond,Ontmoeten
ATTACH;FMTTYPE=image/jpeg:https://hierinwest.nl/wp-content/uploads/2024/06/Spelen-op-straat.jpg
ORGANIZER;CN="Wijkpastoraat Rotterdam-West":MAILTO:info@stichtingwijkpastoraatrotterdamwest.nl
END:VEVENT
BEGIN:VEVENT
DTSTART;TZID=Europe/Amsterdam:20240909T210000
DTEND;TZID=Europe/Amsterdam:20240909T235900
DTSTAMP:20260421T031116
CREATED:20240627T102615Z
LAST-MODIFIED:20240709T114646Z
UID:2474-1725915600-1725926340@hierinwest.nl
SUMMARY:Meer dan voetbal
DESCRIPTION:Voetballen\, fun en social skills\, 16+  \n\n\n\n\n\n\n\n \n\n\n\n\n\n \n\n\nbewegen\, maaltijd\, sport
URL:https://hierinwest.nl/activiteit/meer-dan-voetbal-2/
LOCATION:Gymzaal Heemraadstraat\, Heemraadstraat 60\, Rotterdam\, Zuid-Holland\, 3023VJ\, Nederland
CATEGORIES:Gezond
ATTACH;FMTTYPE=image/webp:https://hierinwest.nl/wp-content/uploads/2023/12/Meer-dan-voetbal.webp
END:VEVENT
BEGIN:VEVENT
DTSTART;TZID=Europe/Amsterdam:20240909T151500
DTEND;TZID=Europe/Amsterdam:20240909T171500
DTSTAMP:20260421T031116
CREATED:20240627T153812Z
LAST-MODIFIED:20240627T153931Z
UID:2664-1725894900-1725902100@hierinwest.nl
SUMMARY:Playgrounds
DESCRIPTION:Samen veilig buiten spelen.
URL:https://hierinwest.nl/activiteit/playgrounds-tidemanplein/
LOCATION:Tidemanplein\, Tidemanstraat 80\, Rotterdam\, Zuid-Holland\, 3022SM\, Nederland
CATEGORIES:Gezond
ATTACH;FMTTYPE=image/webp:https://hierinwest.nl/wp-content/uploads/2023/12/Playgrounds.webp
ORGANIZER;CN="WMO Radar":MAILTO:jessica.riedewald@wmoradar.nl
END:VEVENT
BEGIN:VEVENT
DTSTART;TZID=Europe/Amsterdam:20240909T151500
DTEND;TZID=Europe/Amsterdam:20240909T171500
DTSTAMP:20260421T031116
CREATED:20240627T124421Z
LAST-MODIFIED:20240627T124521Z
UID:2575-1725894900-1725902100@hierinwest.nl
SUMMARY:Playgrounds
DESCRIPTION:Samen veilig buiten spelen.
URL:https://hierinwest.nl/activiteit/playgrounds/
LOCATION:Jaap Valkhofplein\, Tidemanstraat 80\, Rotterdam
CATEGORIES:Gezond
ATTACH;FMTTYPE=image/webp:https://hierinwest.nl/wp-content/uploads/2023/12/Playgrounds.webp
ORGANIZER;CN="WMO Radar":MAILTO:jessica.riedewald@wmoradar.nl
END:VEVENT
BEGIN:VEVENT
DTSTART;TZID=Europe/Amsterdam:20240909T143000
DTEND;TZID=Europe/Amsterdam:20240909T163000
DTSTAMP:20260421T031116
CREATED:20231214T142305Z
LAST-MODIFIED:20240627T155333Z
UID:1551-1725892200-1725899400@hierinwest.nl
SUMMARY:Wandelgroep
DESCRIPTION:Samen wandelen door de wijk en de natuur
URL:https://hierinwest.nl/activiteit/wandelgroep/
LOCATION:Wijkpastoraat\, Burg Meineszstraat 4\, Rotterdam\, Zuid-Holland\, 3022XE\, Nederland
CATEGORIES:Gezond,Leren
ATTACH;FMTTYPE=image/jpeg:https://hierinwest.nl/wp-content/uploads/2023/10/Wandelen-in-Delfshaven.jpg
ORGANIZER;CN="Wijkpastoraat Rotterdam-West":MAILTO:info@stichtingwijkpastoraatrotterdamwest.nl
END:VEVENT
BEGIN:VEVENT
DTSTART;TZID=Europe/Amsterdam:20240909T140000
DTEND;TZID=Europe/Amsterdam:20240909T150000
DTSTAMP:20260421T031116
CREATED:20240627T125417Z
LAST-MODIFIED:20240627T125420Z
UID:2588-1725890400-1725894000@hierinwest.nl
SUMMARY:Swing Brasil
DESCRIPTION:Heerlijk dansen met ouderen
URL:https://hierinwest.nl/activiteit/swing-brasil/
LOCATION:Laurens\, Mathenesserlaan 500\, Rotterdam\, Zuid-Holland\, 3023 HL\, Nederland
CATEGORIES:Cultuur,Gezond
ATTACH;FMTTYPE=image/jpeg:https://hierinwest.nl/wp-content/uploads/2023/10/Swing-Brasil.jpeg
ORGANIZER;CN="Laurens":MAILTO:laurensentree@laurens.nl
END:VEVENT
BEGIN:VEVENT
DTSTART;TZID=Europe/Amsterdam:20240909T120000
DTEND;TZID=Europe/Amsterdam:20240909T180000
DTSTAMP:20260421T031116
CREATED:20240627T105822Z
LAST-MODIFIED:20240709T114601Z
UID:2511-1725883200-1725904800@hierinwest.nl
SUMMARY:Ouder worden met Sita
DESCRIPTION:Ontmoeting met ouderen onder elkaar
URL:https://hierinwest.nl/activiteit/ouder-worden-met-sita/
LOCATION:Post West\, Tidemanstraat 80\, Rotterdam\, 3022 SM\, Nederland
CATEGORIES:Cultuur,Gezond,Leren
ATTACH;FMTTYPE=image/jpeg:https://hierinwest.nl/wp-content/uploads/2023/10/Ouder-worden-met-Sita.jpg
END:VEVENT
BEGIN:VEVENT
DTSTART;TZID=Europe/Amsterdam:20240909T110000
DTEND;TZID=Europe/Amsterdam:20240909T130000
DTSTAMP:20260421T031116
CREATED:20240627T160929Z
LAST-MODIFIED:20240627T160948Z
UID:2683-1725879600-1725886800@hierinwest.nl
SUMMARY:Koffieinloop
DESCRIPTION:Open inloop met koffie en gesprek
URL:https://hierinwest.nl/activiteit/open-inloop-2/
LOCATION:Wijkpastoraat\, Burg Meineszstraat 4\, Rotterdam\, Zuid-Holland\, 3022XE\, Nederland
CATEGORIES:Gezond
ATTACH;FMTTYPE=image/jpeg:https://hierinwest.nl/wp-content/uploads/2023/10/Koffiegroep.jpg
ORGANIZER;CN="Wijkpastoraat Rotterdam-West":MAILTO:info@stichtingwijkpastoraatrotterdamwest.nl
END:VEVENT
BEGIN:VEVENT
DTSTART;TZID=Europe/Amsterdam:20240909T110000
DTEND;TZID=Europe/Amsterdam:20240909T120000
DTSTAMP:20260421T031116
CREATED:20240627T124700Z
LAST-MODIFIED:20240627T124702Z
UID:2582-1725879600-1725883200@hierinwest.nl
SUMMARY:Beweeggroep Laurens
DESCRIPTION:Ouder worden én vitaal blijven!
URL:https://hierinwest.nl/activiteit/beweeggroep-laurens/
LOCATION:Laurens\, Mathenesserlaan 500\, Rotterdam\, Zuid-Holland\, 3023 HL\, Nederland
CATEGORIES:Cultuur,Gezond
ATTACH;FMTTYPE=image/jpeg:https://hierinwest.nl/wp-content/uploads/2023/10/Beweeggroep-Laurens.jpg
ORGANIZER;CN="Laurens":MAILTO:laurensentree@laurens.nl
END:VEVENT
BEGIN:VEVENT
DTSTART;TZID=Europe/Amsterdam:20240909T100000
DTEND;TZID=Europe/Amsterdam:20240909T110000
DTSTAMP:20260421T031116
CREATED:20240627T110750Z
LAST-MODIFIED:20240709T114508Z
UID:2517-1725876000-1725879600@hierinwest.nl
SUMMARY:Zumba
DESCRIPTION:Gezond en fit\, bewegen met Zumba
URL:https://hierinwest.nl/activiteit/zumba/
LOCATION:Post West\, Tidemanstraat 80\, Rotterdam\, 3022 SM\, Nederland
CATEGORIES:Gezond
ATTACH;FMTTYPE=image/jpeg:https://hierinwest.nl/wp-content/uploads/2023/08/Zumba-—WCD.jpg
ORGANIZER;CN="WMO Radar":MAILTO:jessica.riedewald@wmoradar.nl
END:VEVENT
BEGIN:VEVENT
DTSTART;TZID=Europe/Amsterdam:20240909T080000
DTEND;TZID=Europe/Amsterdam:20240909T120000
DTSTAMP:20260421T031116
CREATED:20240627T151246Z
LAST-MODIFIED:20240627T151249Z
UID:2645-1725868800-1725883200@hierinwest.nl
SUMMARY:Vrouwen Emancipatie
DESCRIPTION:Gespreksgroep van vrouwen die samen ontbijten\, vrijwillige bijdrage
URL:https://hierinwest.nl/activiteit/vrouwen-emancipatie-3/
LOCATION:Pandje010\, Beukelsdijk 153c\, Rotterdam\, Zuid-Holland\, 3022DD\, Nederland
CATEGORIES:Gezond,Hulp,Leren,Ontmoeten
ATTACH;FMTTYPE=image/jpeg:https://hierinwest.nl/wp-content/uploads/2023/08/Vrouwengroep-1.jpg
END:VEVENT
BEGIN:VEVENT
DTSTART;TZID=Europe/Amsterdam:20240908T150000
DTEND;TZID=Europe/Amsterdam:20240908T180000
DTSTAMP:20260421T031116
CREATED:20240627T124045Z
LAST-MODIFIED:20240627T124048Z
UID:2571-1725807600-1725818400@hierinwest.nl
SUMMARY:Kaapverdische dans (mazurka)
DESCRIPTION:Samen dansen met plezier.
URL:https://hierinwest.nl/activiteit/kaapverdische-dans-manzurca/
LOCATION:Post West\, Tidemanstraat 80\, Rotterdam\, 3022 SM\, Nederland
CATEGORIES:Cultuur,Gezond,Leren
ATTACH;FMTTYPE=image/jpeg:https://hierinwest.nl/wp-content/uploads/2023/12/Kaapverdische-dans.jpg
END:VEVENT
BEGIN:VEVENT
DTSTART;TZID=Europe/Amsterdam:20240915T130000
DTEND;TZID=Europe/Amsterdam:20240915T143000
DTSTAMP:20260421T031116
CREATED:20240709T111035Z
LAST-MODIFIED:20250108T151213Z
UID:2860-1726405200-1726410600@hierinwest.nl
SUMMARY:Fitness ladies only
DESCRIPTION:Sporten en bewegen voor vrouwen
URL:https://hierinwest.nl/activiteit/fitness-ladies-only/
LOCATION:Huiskamer de Pupillen\, Pupillenstraat 107\, Rotterdam\, Zuid-Holland\, 3023 VR\, Nederland
CATEGORIES:Gezond,Leren
ATTACH;FMTTYPE=image/jpeg:https://hierinwest.nl/wp-content/uploads/2024/07/Fitness-ladies-only.jpg
END:VEVENT
BEGIN:VEVENT
DTSTART;TZID=Europe/Amsterdam:20240914T093000
DTEND;TZID=Europe/Amsterdam:20240914T110000
DTSTAMP:20260421T031116
CREATED:20240709T104313Z
LAST-MODIFIED:20240709T104411Z
UID:2857-1726306200-1726311600@hierinwest.nl
SUMMARY:Yoga
DESCRIPTION:Lekker lichamelijk en geestelijk ontspannen door middel van oefeningen.
URL:https://hierinwest.nl/activiteit/yoga-2/
LOCATION:Huiskamer de Pupillen\, Pupillenstraat 107\, Rotterdam\, Zuid-Holland\, 3023 VR\, Nederland
CATEGORIES:Gezond,Leren
ATTACH;FMTTYPE=image/jpeg:https://hierinwest.nl/wp-content/uploads/2023/10/Yoga-in-Delfshaven.jpg
END:VEVENT
BEGIN:VEVENT
DTSTART;TZID=Europe/Amsterdam:20240913T090000
DTEND;TZID=Europe/Amsterdam:20240913T120000
DTSTAMP:20260421T031116
CREATED:20240627T161256Z
LAST-MODIFIED:20240627T161258Z
UID:2685-1726218000-1726228800@hierinwest.nl
SUMMARY:Vrouwengroep
DESCRIPTION:Ontmoeting en gesprek
URL:https://hierinwest.nl/activiteit/vrouwengroep-2/
LOCATION:Wijkpastoraat\, Burg Meineszstraat 4\, Rotterdam\, Zuid-Holland\, 3022XE\, Nederland
CATEGORIES:Gezond,Leren
ATTACH;FMTTYPE=image/jpeg:https://hierinwest.nl/wp-content/uploads/2023/12/Vrouwengroep-WOW.jpg
ORGANIZER;CN="Wijkpastoraat Rotterdam-West":MAILTO:info@stichtingwijkpastoraatrotterdamwest.nl
END:VEVENT
BEGIN:VEVENT
DTSTART;TZID=Europe/Amsterdam:20240909T080000
DTEND;TZID=Europe/Amsterdam:20240909T120000
DTSTAMP:20260421T031116
CREATED:20240627T151246Z
LAST-MODIFIED:20240627T151249Z
UID:2645-1725868800-1725883200@hierinwest.nl
SUMMARY:Vrouwen Emancipatie
DESCRIPTION:Gespreksgroep van vrouwen die samen ontbijten\, vrijwillige bijdrage
URL:https://hierinwest.nl/activiteit/vrouwen-emancipatie-3/
LOCATION:Pandje010\, Beukelsdijk 153c\, Rotterdam\, Zuid-Holland\, 3022DD\, Nederland
CATEGORIES:Gezond,Hulp,Leren,Ontmoeten
ATTACH;FMTTYPE=image/jpeg:https://hierinwest.nl/wp-content/uploads/2023/08/Vrouwengroep-1.jpg
END:VEVENT
BEGIN:VEVENT
DTSTART;TZID=Europe/Amsterdam:20240909T210000
DTEND;TZID=Europe/Amsterdam:20240909T235900
DTSTAMP:20260421T031116
CREATED:20240627T102615Z
LAST-MODIFIED:20240709T114646Z
UID:2474-1725915600-1725926340@hierinwest.nl
SUMMARY:Meer dan voetbal
DESCRIPTION:Voetballen\, fun en social skills\, 16+  \n\n\n\n\n\n\n\n \n\n\n\n\n\n \n\n\nbewegen\, maaltijd\, sport
URL:https://hierinwest.nl/activiteit/meer-dan-voetbal-2/
LOCATION:Gymzaal Heemraadstraat\, Heemraadstraat 60\, Rotterdam\, Zuid-Holland\, 3023VJ\, Nederland
CATEGORIES:Gezond
ATTACH;FMTTYPE=image/webp:https://hierinwest.nl/wp-content/uploads/2023/12/Meer-dan-voetbal.webp
END:VEVENT
BEGIN:VEVENT
DTSTART;TZID=Europe/Amsterdam:20240912T193000
DTEND;TZID=Europe/Amsterdam:20240912T210000
DTSTAMP:20260421T031116
CREATED:20240627T105232Z
LAST-MODIFIED:20240627T121857Z
UID:2499-1726169400-1726174800@hierinwest.nl
SUMMARY:Capoeira les
DESCRIPTION:Leer capoeira\, Braziliaanse dans en vechtsport\, 12+
URL:https://hierinwest.nl/activiteit/capoeira-les-2/
LOCATION:Post West\, Tidemanstraat 80\, Rotterdam\, 3022 SM\, Nederland
CATEGORIES:Gezond
ATTACH;FMTTYPE=image/jpeg:https://hierinwest.nl/wp-content/uploads/2023/12/Capoeira.jpg
END:VEVENT
BEGIN:VEVENT
DTSTART;TZID=Europe/Amsterdam:20240912T190000
DTEND;TZID=Europe/Amsterdam:20240912T210000
DTSTAMP:20260421T031116
CREATED:20240627T105630Z
LAST-MODIFIED:20240627T121924Z
UID:2507-1726167600-1726174800@hierinwest.nl
SUMMARY:Meidenvilla
DESCRIPTION:Leuke dingen voor en door meiden\, 12+
URL:https://hierinwest.nl/activiteit/meidenvilla-2/
LOCATION:Post West\, Tidemanstraat 80\, Rotterdam\, 3022 SM\, Nederland
CATEGORIES:Gezond,Maken
ATTACH;FMTTYPE=image/jpeg:https://hierinwest.nl/wp-content/uploads/2023/12/Meidenvilla.jpg
ORGANIZER;CN="WMO Radar":MAILTO:jessica.riedewald@wmoradar.nl
END:VEVENT
BEGIN:VEVENT
DTSTART;TZID=Europe/Amsterdam:20240912T180000
DTEND;TZID=Europe/Amsterdam:20240912T210000
DTSTAMP:20260421T031116
CREATED:20240627T120200Z
LAST-MODIFIED:20240627T120324Z
UID:2536-1726164000-1726174800@hierinwest.nl
SUMMARY:Jen Stars Surinaamse dans
DESCRIPTION:Heerlijk dansen voor kinderen 4-12
URL:https://hierinwest.nl/activiteit/jen-stars-surinaamse-dans-2/
LOCATION:Post West\, Tidemanstraat 80\, Rotterdam\, 3022 SM\, Nederland
CATEGORIES:Gezond,Leren
ATTACH;FMTTYPE=image/jpeg:https://hierinwest.nl/wp-content/uploads/2023/12/Jen-Stars.jpg
END:VEVENT
BEGIN:VEVENT
DTSTART;TZID=Europe/Amsterdam:20240912T120000
DTEND;TZID=Europe/Amsterdam:20240912T130000
DTSTAMP:20260421T031116
CREATED:20240627T125009Z
LAST-MODIFIED:20240627T125011Z
UID:2586-1726142400-1726146000@hierinwest.nl
SUMMARY:Stoelyoga
DESCRIPTION:Rustig bewegen en concentreren
URL:https://hierinwest.nl/activiteit/stoelyoga/
LOCATION:Laurens\, Mathenesserlaan 500\, Rotterdam\, Zuid-Holland\, 3023 HL\, Nederland
CATEGORIES:Gezond,Leren,Zingeving
ATTACH;FMTTYPE=image/jpeg:https://hierinwest.nl/wp-content/uploads/2023/09/Stoelyoga-.jpg
END:VEVENT
BEGIN:VEVENT
DTSTART;TZID=Europe/Amsterdam:20240910T080000
DTEND;TZID=Europe/Amsterdam:20240910T170000
DTSTAMP:20260421T031116
CREATED:20240627T165910Z
LAST-MODIFIED:20240627T165911Z
UID:2734-1725955200-1725987600@hierinwest.nl
SUMMARY:Spelen op straat
DESCRIPTION:Spelen met kinderen op pleinen
URL:https://hierinwest.nl/activiteit/spelen-op-straat/
LOCATION:Wijkpastoraat\, Burg Meineszstraat 4\, Rotterdam\, Zuid-Holland\, 3022XE\, Nederland
CATEGORIES:Gezond,Ontmoeten
ATTACH;FMTTYPE=image/jpeg:https://hierinwest.nl/wp-content/uploads/2024/06/Spelen-op-straat.jpg
ORGANIZER;CN="Wijkpastoraat Rotterdam-West":MAILTO:info@stichtingwijkpastoraatrotterdamwest.nl
END:VEVENT
BEGIN:VEVENT
DTSTART;TZID=Europe/Amsterdam:20240911T190000
DTEND;TZID=Europe/Amsterdam:20240911T220000
DTSTAMP:20260421T031116
CREATED:20240627T105425Z
LAST-MODIFIED:20240627T121823Z
UID:2503-1726081200-1726092000@hierinwest.nl
SUMMARY:Tafeltennis Twist
DESCRIPTION:Tafeltennis\, darten\, dammen\, 18+
URL:https://hierinwest.nl/activiteit/tafeltennis-twist-2/
LOCATION:Post West\, Tidemanstraat 80\, Rotterdam\, 3022 SM\, Nederland
CATEGORIES:Gezond
ATTACH;FMTTYPE=image/jpeg:https://hierinwest.nl/wp-content/uploads/2023/12/Tafeltennis-Twist-1.jpg
END:VEVENT
BEGIN:VEVENT
DTSTART;TZID=Europe/Amsterdam:20240911T183000
DTEND;TZID=Europe/Amsterdam:20240911T193000
DTSTAMP:20260421T031116
CREATED:20240709T111826Z
LAST-MODIFIED:20240709T111827Z
UID:2874-1726079400-1726083000@hierinwest.nl
SUMMARY:Wandelen met Bushra
DESCRIPTION:Wandelen voor plezier en gezondheid
URL:https://hierinwest.nl/activiteit/wandelen-met-bushra/
LOCATION:Huiskamer de Pupillen\, Pupillenstraat 107\, Rotterdam\, Zuid-Holland\, 3023 VR\, Nederland
CATEGORIES:Gezond
ATTACH;FMTTYPE=image/jpeg:https://hierinwest.nl/wp-content/uploads/2024/07/Wandelen-met-Bushra.jpg
END:VEVENT
BEGIN:VEVENT
DTSTART;TZID=Europe/Amsterdam:20240911T180000
DTEND;TZID=Europe/Amsterdam:20240911T220000
DTSTAMP:20260421T031116
CREATED:20240627T122453Z
LAST-MODIFIED:20240627T122457Z
UID:2549-1726077600-1726092000@hierinwest.nl
SUMMARY:Yoga voor ouderen
DESCRIPTION:Gezond bewegen en tot rust komen\, 55+
URL:https://hierinwest.nl/activiteit/yoga-voor-ouderen-2/
LOCATION:Post West\, Tidemanstraat 80\, Rotterdam\, 3022 SM\, Nederland
CATEGORIES:Gezond
ATTACH;FMTTYPE=image/jpeg:https://hierinwest.nl/wp-content/uploads/2023/10/Yoga-in-Delfshaven.jpg
END:VEVENT
END:VCALENDAR