BEGIN:VCALENDAR
VERSION:2.0
PRODID:-//Wijkagenda - ECPv6.15.20//NONSGML v1.0//EN
CALSCALE:GREGORIAN
METHOD:PUBLISH
X-WR-CALNAME:Wijkagenda
X-ORIGINAL-URL:https://hierinwest.nl
X-WR-CALDESC:Evenementen voor Wijkagenda
REFRESH-INTERVAL;VALUE=DURATION:PT1H
X-Robots-Tag:noindex
X-PUBLISHED-TTL:PT1H
BEGIN:VTIMEZONE
TZID:Europe/Amsterdam
BEGIN:DAYLIGHT
TZOFFSETFROM:+0100
TZOFFSETTO:+0200
TZNAME:CEST
DTSTART:20230326T010000
END:DAYLIGHT
BEGIN:STANDARD
TZOFFSETFROM:+0200
TZOFFSETTO:+0100
TZNAME:CET
DTSTART:20231029T010000
END:STANDARD
BEGIN:DAYLIGHT
TZOFFSETFROM:+0100
TZOFFSETTO:+0200
TZNAME:CEST
DTSTART:20240331T010000
END:DAYLIGHT
BEGIN:STANDARD
TZOFFSETFROM:+0200
TZOFFSETTO:+0100
TZNAME:CET
DTSTART:20241027T010000
END:STANDARD
BEGIN:DAYLIGHT
TZOFFSETFROM:+0100
TZOFFSETTO:+0200
TZNAME:CEST
DTSTART:20250330T010000
END:DAYLIGHT
BEGIN:STANDARD
TZOFFSETFROM:+0200
TZOFFSETTO:+0100
TZNAME:CET
DTSTART:20251026T010000
END:STANDARD
END:VTIMEZONE
BEGIN:VEVENT
DTSTART;TZID=Europe/Amsterdam:20240915T090000
DTEND;TZID=Europe/Amsterdam:20240915T090000
DTSTAMP:20260426T014948
CREATED:20240627T143759Z
LAST-MODIFIED:20240709T121155Z
UID:2631-1726390800-1726390800@hierinwest.nl
SUMMARY:Naailes
DESCRIPTION:Kleding maken of verstellen
URL:https://hierinwest.nl/activiteit/naailes-2/
LOCATION:Het Nozepandje\, Hooidrift 45\, Rotterdam\, 3023 KH
CATEGORIES:Maken
ATTACH;FMTTYPE=image/jpeg:https://hierinwest.nl/wp-content/uploads/2023/10/Naailes-in-Delfshaven.jpg
ORGANIZER;CN="Nozepandje":MAILTO:hetnozepandje@gmail.com
END:VEVENT
BEGIN:VEVENT
DTSTART;TZID=Europe/Amsterdam:20240915T110000
DTEND;TZID=Europe/Amsterdam:20240915T110000
DTSTAMP:20260426T014948
CREATED:20240627T130105Z
LAST-MODIFIED:20240627T130123Z
UID:2596-1726398000-1726398000@hierinwest.nl
SUMMARY:Kerkdienst en live muziek
DESCRIPTION:Kerkdienst en live muziek
URL:https://hierinwest.nl/activiteit/kerkdienst-en-live-muziek-2/
LOCATION:Laurens\, Mathenesserlaan 500\, Rotterdam\, Zuid-Holland\, 3023 HL\, Nederland
CATEGORIES:Zingeving
ATTACH;FMTTYPE=image/jpeg:https://hierinwest.nl/wp-content/uploads/2023/12/Kerkdienst-met-live-muziek.jpg
ORGANIZER;CN="Laurens":MAILTO:laurensentree@laurens.nl
END:VEVENT
BEGIN:VEVENT
DTSTART;TZID=Europe/Amsterdam:20240915T130000
DTEND;TZID=Europe/Amsterdam:20240915T143000
DTSTAMP:20260426T014948
CREATED:20240709T111035Z
LAST-MODIFIED:20250108T151213Z
UID:2860-1726405200-1726410600@hierinwest.nl
SUMMARY:Fitness ladies only
DESCRIPTION:Sporten en bewegen voor vrouwen
URL:https://hierinwest.nl/activiteit/fitness-ladies-only/
LOCATION:Huiskamer de Pupillen\, Pupillenstraat 107\, Rotterdam\, Zuid-Holland\, 3023 VR\, Nederland
CATEGORIES:Gezond,Leren
ATTACH;FMTTYPE=image/jpeg:https://hierinwest.nl/wp-content/uploads/2024/07/Fitness-ladies-only.jpg
END:VEVENT
BEGIN:VEVENT
DTSTART;TZID=Europe/Amsterdam:20240915T130000
DTEND;TZID=Europe/Amsterdam:20240915T143000
DTSTAMP:20260426T014948
CREATED:20240904T074150Z
LAST-MODIFIED:20240904T074253Z
UID:3675-1726405200-1726410600@hierinwest.nl
SUMMARY:Opening ZIJN
DESCRIPTION:Welkom bij de opening van ZIJN \n\n\n\nEen plek voor ontmoeting\, koffie en tweedehandskledingOp deze plek bouwen we samen aan de buurt. Geniet van onze (h)eerlijke koffie\, Snuffel rond in de tweedehandskleding. Ontmoet nieuwe en oude bekenden.
URL:https://hierinwest.nl/activiteit/opening-zijn-2/
LOCATION:ZIJN Huiskamer\, Vierambachtsstraat 20\, Rotterdam\, Zuid-Holland\, 3023 AM\, Nederland
CATEGORIES:Ontmoeten
ATTACH;FMTTYPE=image/jpeg:https://hierinwest.nl/wp-content/uploads/2024/08/Opening-ZIJN.jpg
ORGANIZER;CN="ZIJN Huiskamer":MAILTO:info@thuisinwest.nl
END:VEVENT
BEGIN:VEVENT
DTSTART;TZID=Europe/Amsterdam:20240908T130000
DTEND;TZID=Europe/Amsterdam:20240908T150000
DTSTAMP:20260426T014948
CREATED:20240627T123828Z
LAST-MODIFIED:20240627T123831Z
UID:2569-1725800400-1725807600@hierinwest.nl
SUMMARY:Telefoon en computerles
DESCRIPTION:Leer je telefoon en je computer goed gebruiken
URL:https://hierinwest.nl/activiteit/telefoon-en-computerles-2/
LOCATION:Post West\, Tidemanstraat 80\, Rotterdam\, 3022 SM\, Nederland
CATEGORIES:Hulp,Leren
ATTACH;FMTTYPE=image/jpeg:https://hierinwest.nl/wp-content/uploads/2023/12/Computerles.jpg
END:VEVENT
BEGIN:VEVENT
DTSTART;TZID=Europe/Amsterdam:20240908T150000
DTEND;TZID=Europe/Amsterdam:20240908T180000
DTSTAMP:20260426T014948
CREATED:20240627T124045Z
LAST-MODIFIED:20240627T124048Z
UID:2571-1725807600-1725818400@hierinwest.nl
SUMMARY:Kaapverdische dans (mazurka)
DESCRIPTION:Samen dansen met plezier.
URL:https://hierinwest.nl/activiteit/kaapverdische-dans-manzurca/
LOCATION:Post West\, Tidemanstraat 80\, Rotterdam\, 3022 SM\, Nederland
CATEGORIES:Cultuur,Gezond,Leren
ATTACH;FMTTYPE=image/jpeg:https://hierinwest.nl/wp-content/uploads/2023/12/Kaapverdische-dans.jpg
END:VEVENT
BEGIN:VEVENT
DTSTART;TZID=Europe/Amsterdam:20240908T160000
DTEND;TZID=Europe/Amsterdam:20240908T180000
DTSTAMP:20260426T014948
CREATED:20240627T130832Z
LAST-MODIFIED:20240627T130834Z
UID:2606-1725811200-1725818400@hierinwest.nl
SUMMARY:Huiswerkhulp
DESCRIPTION:Begeleiding bij je taalhuiswerk (groep 4-8)
URL:https://hierinwest.nl/activiteit/huiswerkhulp-3/
LOCATION:Leespaleis\, Heemraadstraat 60\, Rotterdam\, Zuid-Holland\, 3023VJ\, Nederland
CATEGORIES:Leren,Maken
ATTACH;FMTTYPE=image/jpeg:https://hierinwest.nl/wp-content/uploads/2023/10/Huiswerk-—-Leespaleis-2.jpg
END:VEVENT
BEGIN:VEVENT
DTSTART;TZID=Europe/Amsterdam:20240908T180000
DTEND;TZID=Europe/Amsterdam:20240908T220000
DTSTAMP:20260426T014948
CREATED:20240627T112051Z
LAST-MODIFIED:20240709T114339Z
UID:2526-1725818400-1725832800@hierinwest.nl
SUMMARY:Muziekles
DESCRIPTION:Samen muziek maken en talent ontwikkelen\, 18+
URL:https://hierinwest.nl/activiteit/muziekles-3/
LOCATION:Post West\, Tidemanstraat 80\, Rotterdam\, 3022 SM\, Nederland
CATEGORIES:Cultuur,Leren,Maken
ATTACH;FMTTYPE=image/jpeg:https://hierinwest.nl/wp-content/uploads/2023/12/Muziekles.jpg
END:VEVENT
END:VCALENDAR